{"text_format":"1","workbook":"xlsx","n_sheets":17,"sheets":["Equipes COLL Etab","Equipes LYCEE Etab","Equipes COLL Exc","Equipes LYCEE Exc","Notation COLL Etab","Notation LYCEE Etab","Notation COLL Exc","Notation LYCEE Exc","Récap total COLL Etab","PALMARES COLL ETAB","Récap total LYCEE Etab","PALMARES LYCEE ETAB","Récap total COLL Exc","PALMARES COLL EXC","Récap total LYCEE Exc","PALMARES LYCEE EXC","Feuil13"],"not_rendered":{"charts":0,"images":0,"macros":1,"external_links":0,"defined_names":2,"comments":0,"pivot_tables":0},"unopened":[],"bounds":{"document_bytes":16777216,"sheet_cells":100000,"rows_first":2000,"rows_last":500,"rows_between":2000,"halvings":0,"cell_chars":16384,"cell_head_chars":4096},"cells_cut":0,"cells_raw":0,"read":"whole","date_system":"1900"}

{"sheet":"Equipes COLL Etab","index":0,"n_rows":32,"n_cols":4,"rows_kept":32,"cut":false,"hidden":false,"merged":[[7,0,7,3],[0,0,0,3],[2,0,2,3],[5,0,5,3]]}
["CHAMPIONNAT DEPARTEMENTAL GYM AERO "]
[]
["LONGEVILLE le 22 mars 2017"]
[]
[]
["Catégorie collège établissement"]
[]
["Liste des équipes "]
[]
[]
[]
[null,"Equipe","Etablissement","Ville"]
[1]
[2]
[3]
[4]
[5]
[6]
[7]
[8]
[9]
[10]
[11]
[12]
[13]
[14]
[15]
[16]
[17]
[18]
[19]
[20]

{"sheet":"Equipes LYCEE Etab","index":1,"n_rows":24,"n_cols":4,"rows_kept":24,"cut":false,"hidden":false,"merged":[[0,0,0,3],[2,0,2,3],[5,0,5,3],[7,0,7,3]]}
["CHAMPIONNAT DEPARTEMENTAL GYM AERO "]
[]
["LONGEVILLE le 22 mars 2017"]
[]
[]
["Catégorie lycée établissement"]
[]
["Liste des équipes "]
[]
[]
[]
[null,"Equipe","Etablissement","Ville"]
[1]
[2]
[3]
[4]
[5]
[6]
[7]
[8]
[9]
[10]
[11]
[12]

{"sheet":"Equipes COLL Exc","index":2,"n_rows":24,"n_cols":4,"rows_kept":24,"cut":false,"hidden":false,"merged":[[0,0,0,3],[2,0,2,3],[5,0,5,3],[7,0,7,3]]}
["CHAMPIONNAT DEPARTEMENTAL GYM AERO "]
[]
["LONGEVILLE le 22 mars 2017"]
[]
[]
["Catégorie collège Excellence"]
[]
["Liste des équipes "]
[]
[]
[]
[null,"Equipe","Etablissement","Ville"]
[1]
[2]
[3]
[4]
[5]
[6]
[7]
[8]
[9]
[10]
[11]
[12]

{"sheet":"Equipes LYCEE Exc","index":3,"n_rows":24,"n_cols":4,"rows_kept":24,"cut":false,"hidden":false,"merged":[[0,0,0,3],[2,0,2,3],[5,0,5,3],[7,0,7,3]]}
["CHAMPIONNAT DEPARTEMENTAL GYM AERO "]
[]
["LONGEVILLE le 22 mars 2017"]
[]
[]
["Catégorie lycée Excellence"]
[]
["Liste des équipes "]
[]
[]
[]
[null,"Equipe","Etablissement","Ville"]
[1]
[2]
[3]
[4]
[5]
[6]
[7]
[8]
[9]
[10]
[11]
[12]

{"sheet":"Notation COLL Etab","index":4,"n_rows":43,"n_cols":39,"rows_kept":43,"cut":false,"hidden":false,"merged":[[0,18,0,24],[0,0,0,6],[0,7,0,17],[102,30,104,30],[27,30,28,30],[29,30,30,30],[31,30,32,30],[33,30,34,30],[35,30,36,30],[37,30,38,30],[39,30,40,30],[41,30,42,30],[82,30,84,30],[86,30,88,30],[89,30,91,30],[92,30,94,30],[95,30,97,30],[99,30,101,30],[66,30,67,30],[71,30,72,30],[76,30,78,30],[79,30,81,30],[25,30,26,30],[13,30,14,30],[15,30,16,30],[17,30,18,30],[19,30,20,30],[21,30,22,30],[23,30,24,30],[3,30,4,30],[5,30,6,30],[7,30,8,30],[9,30,10,30],[11,30,12,30]]}
[{"$f":"'Equipes COLL Etab'!A6","v":"Catégorie collège établissement"},null,null,null,null,null,null,{"$f":"'Equipes COLL Etab'!A1","v":"CHAMPIONNAT DEPARTEMENTAL GYM AERO "},null,null,null,null,null,null,null,null,null,null,{"$f":"'Equipes COLL Etab'!A3","v":"LONGEVILLE le 22 mars 2017"}]
[]
["ETAB COLL","S1","S2","S3","Synch","EPB1","EPB2","EPB3","Exé PB","ED1","ED2","ED3","Exé Diff","TA1","TA2","TA3","Talent art","CC1","CC2","CC3","Compo choré","Esp1","Esp2","Esp3","Espace","Diff","Diff coeff","Bonus Nombre","Péna","TOTAL","TOTAL",null,null,"Note","Points"]
[{"$f":"'Equipes COLL Etab'!B13","v":0},null,null,null,{"$f":"AVERAGE(B4:D4)","v":{"$error":"#DIV/0!"}},null,null,null,{"$f":"AVERAGE(F4:H4)","v":{"$error":"#DIV/0!"}},null,null,null,{"$f":"AVERAGE(J4:L4)","v":{"$error":"#DIV/0!"}},null,null,null,{"$f":"AVERAGE(N4:P4)","v":{"$error":"#DIV/0!"}},null,null,null,{"$f":"AVERAGE(R4:T4)","v":{"$error":"#DIV/0!"}},null,null,null,{"$f":"AVERAGE(V4:X4)","v":{"$error":"#DIV/0!"}},null,{"$f":"Z4*VLOOKUP(M4,$AH$4:$AI$19,2,TRUE)","v":{"$error":"#DIV/0!"}},null,null,{"$f":"SUM(E4,I4,M4,Q4,U4,Y4,AA4,AB4)-AC4","v":{"$error":"#DIV/0!"}},{"$f":"SUM(AD4,AD5)","v":{"$error":"#DIV/0!"}},null,null,1,0.1]
[{"$f":"'Equipes COLL Etab'!C13","v":0},null,null,null,{"$f":"AVERAGE(B5:D5)","v":{"$error":"#DIV/0!"}},null,null,null,{"$f":"AVERAGE(F5:H5)","v":{"$error":"#DIV/0!"}},null,null,null,{"$f":"AVERAGE(J5:L5)","v":{"$error":"#DIV/0!"}},null,null,null,{"$f":"AVERAGE(N5:P5)","v":{"$error":"#DIV/0!"}},null,null,null,{"$f":"AVERAGE(R5:T5)","v":{"$error":"#DIV/0!"}},null,null,null,{"$f":"AVERAGE(V5:X5)","v":{"$error":"#DIV/0!"}},null,{"$f":"Z5*VLOOKUP(M5,$AH$4:$AI$19,2,TRUE)","v":{"$error":"#DIV/0!"}},null,null,{"$f":"SUM(E5,I5,M5,Q5,U5,Y5,AA5,AB5)-AC5","v":{"$error":"#DIV/0!"}},null,null,null,2,0.1]
[{"$f":"'Equipes COLL Etab'!B14","v":0},null,null,null,{"$f":"AVERAGE(B6:D6)","v":{"$error":"#DIV/0!"}},null,null,null,{"$f":"AVERAGE(F6:H6)","v":{"$error":"#DIV/0!"}},null,null,null,{"$f":"AVERAGE(J6:L6)","v":{"$error":"#DIV/0!"}},null,null,null,{"$f":"AVERAGE(N6:P6)","v":{"$error":"#DIV/0!"}},null,null,null,{"$f":"AVERAGE(R6:T6)","v":{"$error":"#DIV/0!"}},null,null,null,{"$f":"AVERAGE(V6:X6)","v":{"$error":"#DIV/0!"}},null,{"$f":"Z6*VLOOKUP(M6,$AH$4:$AI$19,2,TRUE)","v":{"$error":"#DIV/0!"}},null,null,{"$f":"SUM(E6,I6,M6,Q6,U6,Y6,AA6,AB6)-AC6","v":{"$error":"#DIV/0!"}},{"$f":"SUM(AD6,AD7)","v":{"$error":"#DIV/0!"}},null,null,3,0.1]
[{"$f":"'Equipes COLL Etab'!C14","v":0},null,null,null,{"$error":"#DIV/0!"},null,null,null,{"$error":"#DIV/0!"},null,null,null,{"$error":"#DIV/0!"},null,null,null,{"$error":"#DIV/0!"},null,null,null,{"$error":"#DIV/0!"},null,null,null,{"$error":"#DIV/0!"},null,{"$error":"#DIV/0!"},null,null,{"$error":"#DIV/0!"},null,null,null,4,0.1]
[{"$f":"'Equipes COLL Etab'!B15","v":0},null,null,null,{"$error":"#DIV/0!"},null,null,null,{"$error":"#DIV/0!"},null,null,null,{"$error":"#DIV/0!"},null,null,null,{"$error":"#DIV/0!"},null,null,null,{"$error":"#DIV/0!"},null,null,null,{"$error":"#DIV/0!"},null,{"$error":"#DIV/0!"},null,null,{"$error":"#DIV/0!"},{"$f":"SUM(AD8,AD9)","v":{"$error":"#DIV/0!"}},null,null,5,0.25]
[{"$f":"'Equipes COLL Etab'!C15","v":0},null,null,null,{"$error":"#DIV/0!"},null,null,null,{"$error":"#DIV/0!"},null,null,null,{"$error":"#DIV/0!"},null,null,null,{"$error":"#DIV/0!"},null,null,null,{"$error":"#DIV/0!"},null,null,null,{"$error":"#DIV/0!"},null,{"$error":"#DIV/0!"},null,null,{"$error":"#DIV/0!"},null,null,null,6,0.25,null,null,null," "]
[{"$f":"'Equipes COLL Etab'!B16","v":0},null,null,null,{"$error":"#DIV/0!"},null,null,null,{"$error":"#DIV/0!"},null,null,null,{"$error":"#DIV/0!"},null,null,null,{"$error":"#DIV/0!"},null,null,null,{"$error":"#DIV/0!"},null,null,null,{"$f":"AVERAGE(V10:X10)","v":{"$error":"#DIV/0!"}},null,{"$error":"#DIV/0!"},null,null,{"$error":"#DIV/0!"},{"$f":"SUM(AD10,AD11)","v":{"$error":"#DIV/0!"}},null,null,7,0.25]
[{"$f":"'Equipes COLL Etab'!C16","v":0},null,null,null,{"$error":"#DIV/0!"},null,null,null,{"$error":"#DIV/0!"},null,null,null,{"$error":"#DIV/0!"},null,null,null,{"$error":"#DIV/0!"},null,null,null,{"$error":"#DIV/0!"},null,null,null,{"$error":"#DIV/0!"},null,{"$error":"#DIV/0!"},null,null,{"$error":"#DIV/0!"},null,null,null,8,0.5]
[{"$f":"'Equipes COLL Etab'!B17","v":0},null,null,null,{"$error":"#DIV/0!"},null,null,null,{"$error":"#DIV/0!"},null,null,null,{"$error":"#DIV/0!"},null,null,null,{"$error":"#DIV/0!"},null,null,null,{"$error":"#DIV/0!"},null,null,null,{"$error":"#DIV/0!"},null,{"$error":"#DIV/0!"},null,null,{"$error":"#DIV/0!"},{"$f":"SUM(AD12,AD13)","v":{"$error":"#DIV/0!"}},null,null,9,0.5]
[{"$f":"'Equipes COLL Etab'!C17","v":0},null,null,null,{"$error":"#DIV/0!"},null,null,null,{"$error":"#DIV/0!"},null,null,null,{"$error":"#DIV/0!"},null,null,null,{"$error":"#DIV/0!"},null,null,null,{"$error":"#DIV/0!"},null,null,null,{"$error":"#DIV/0!"},null,{"$error":"#DIV/0!"},null,null,{"$error":"#DIV/0!"},null,null,null,10,0.5]
[{"$f":"'Equipes COLL Etab'!B18","v":0},null,null,null,{"$error":"#DIV/0!"},null,null,null,{"$error":"#DIV/0!"},null,null,null,{"$error":"#DIV/0!"},null,null,null,{"$error":"#DIV/0!"},null,null,null,{"$error":"#DIV/0!"},null,null,null,{"$error":"#DIV/0!"},null,{"$error":"#DIV/0!"},null,null,{"$error":"#DIV/0!"},{"$f":"SUM(AD14,AD15)","v":{"$error":"#DIV/0!"}},null,null,11,0.75]
[{"$f":"'Equipes COLL Etab'!C18","v":0},null,null,null,{"$error":"#DIV/0!"},null,null,null,{"$error":"#DIV/0!"},null,null,null,{"$error":"#DIV/0!"},null,null,null,{"$error":"#DIV/0!"},null,null,null,{"$error":"#DIV/0!"},null,null,null,{"$error":"#DIV/0!"},null,{"$error":"#DIV/0!"},null,null,{"$error":"#DIV/0!"},null,null,null,12,0.75]
[{"$f":"'Equipes COLL Etab'!B19","v":0},null,null,null,{"$error":"#DIV/0!"},null,null,null,{"$error":"#DIV/0!"},null,null,null,{"$error":"#DIV/0!"},null,null,null,{"$error":"#DIV/0!"},null,null,null,{"$error":"#DIV/0!"},null,null,null,{"$error":"#DIV/0!"},null,{"$error":"#DIV/0!"},null,null,{"$error":"#DIV/0!"},{"$f":"SUM(AD16,AD17)","v":{"$error":"#DIV/0!"}},null,null,13,0.75]
[{"$f":"'Equipes COLL Etab'!C19","v":0},null,null,null,{"$error":"#DIV/0!"},null,null,null,{"$error":"#DIV/0!"},null,null,null,{"$error":"#DIV/0!"},null,null,null,{"$error":"#DIV/0!"},null,null,null,{"$error":"#DIV/0!"},null,null,null,{"$error":"#DIV/0!"},null,{"$error":"#DIV/0!"},null,null,{"$error":"#DIV/0!"},null,null,null,14,1]
[{"$f":"'Equipes COLL Etab'!B20","v":0},null,null,null,{"$error":"#DIV/0!"},null,null,null,{"$error":"#DIV/0!"},null,null,null,{"$error":"#DIV/0!"},null,null,null,{"$error":"#DIV/0!"},null,null,null,{"$error":"#DIV/0!"},null,null,null,{"$error":"#DIV/0!"},null,{"$error":"#DIV/0!"},null,null,{"$error":"#DIV/0!"},{"$f":"SUM(AD18,AD19)","v":{"$error":"#DIV/0!"}},null,null,15,1]
[{"$f":"'Equipes COLL Etab'!C20","v":0},null,null,null,{"$error":"#DIV/0!"},null,null,null,{"$error":"#DIV/0!"},null,null,null,{"$error":"#DIV/0!"},null,null,null,{"$error":"#DIV/0!"},null,null,null,{"$error":"#DIV/0!"},null,null,null,{"$error":"#DIV/0!"},null,{"$error":"#DIV/0!"},null,null,{"$error":"#DIV/0!"},null,null,null,16,1]
[{"$f":"'Equipes COLL Etab'!B21","v":0},null,null,null,{"$error":"#DIV/0!"},null,null,null,{"$error":"#DIV/0!"},null,null,null,{"$error":"#DIV/0!"},null,null,null,{"$error":"#DIV/0!"},null,null,null,{"$error":"#DIV/0!"},null,null,null,{"$error":"#DIV/0!"},null,{"$error":"#DIV/0!"},null,null,{"$error":"#DIV/0!"},{"$f":"SUM(AD20,AD21)","v":{"$error":"#DIV/0!"}}]
[{"$f":"'Equipes COLL Etab'!C21","v":0},null,null,null,{"$error":"#DIV/0!"},null,null,null,{"$error":"#DIV/0!"},null,null,null,{"$error":"#DIV/0!"},null,null,null,{"$error":"#DIV/0!"},null,null,null,{"$error":"#DIV/0!"},null,null,null,{"$error":"#DIV/0!"},null,{"$error":"#DIV/0!"},null,null,{"$error":"#DIV/0!"}]
[{"$f":"'Equipes COLL Etab'!B22","v":0},null,null,null,{"$error":"#DIV/0!"},null,null,null,{"$error":"#DIV/0!"},null,null,null,{"$error":"#DIV/0!"},null,null,null,{"$error":"#DIV/0!"},null,null,null,{"$error":"#DIV/0!"},null,null,null,{"$error":"#DIV/0!"},null,{"$error":"#DIV/0!"},null,null,{"$error":"#DIV/0!"},{"$f":"SUM(AD22,AD23)","v":{"$error":"#DIV/0!"}}]
[{"$f":"'Equipes COLL Etab'!C22","v":0},null,null,null,{"$error":"#DIV/0!"},null,null,null,{"$error":"#DIV/0!"},null,null,null,{"$error":"#DIV/0!"},null,null,null,{"$error":"#DIV/0!"},null,null,null,{"$error":"#DIV/0!"},null,null,null,{"$error":"#DIV/0!"},null,{"$error":"#DIV/0!"},null,null,{"$error":"#DIV/0!"}]
[{"$f":"'Equipes COLL Etab'!B23","v":0},null,null,null,{"$error":"#DIV/0!"},null,null,null,{"$error":"#DIV/0!"},null,null,null,{"$error":"#DIV/0!"},null,null,null,{"$error":"#DIV/0!"},null,null,null,{"$error":"#DIV/0!"},null,null,null,{"$error":"#DIV/0!"},null,{"$error":"#DIV/0!"},null,null,{"$error":"#DIV/0!"},{"$f":"SUM(AD24,AD25)","v":{"$error":"#DIV/0!"}}]
[{"$f":"'Equipes COLL Etab'!C23","v":0},null,null,null,{"$error":"#DIV/0!"},null,null,null,{"$error":"#DIV/0!"},null,null,null,{"$error":"#DIV/0!"},null,null,null,{"$error":"#DIV/0!"},null,null,null,{"$error":"#DIV/0!"},null,null,null,{"$error":"#DIV/0!"},null,{"$error":"#DIV/0!"},null,null,{"$error":"#DIV/0!"}]
[{"$f":"'Equipes COLL Etab'!B24","v":0},null,null,null,{"$error":"#DIV/0!"},null,null,null,{"$error":"#DIV/0!"},null,null,null,{"$error":"#DIV/0!"},null,null,null,{"$error":"#DIV/0!"},null,null,null,{"$error":"#DIV/0!"},null,null,null,{"$error":"#DIV/0!"},null,{"$error":"#DIV/0!"},null,null,{"$error":"#DIV/0!"},{"$error":"#DIV/0!"}]
[{"$f":"'Equipes COLL Etab'!C24","v":0},null,null,null,{"$error":"#DIV/0!"},null,null,null,{"$error":"#DIV/0!"},null,null,null,{"$error":"#DIV/0!"},null,null,null,{"$error":"#DIV/0!"},null,null,null,{"$error":"#DIV/0!"},null,null,null,{"$error":"#DIV/0!"},null,{"$error":"#DIV/0!"},null,null,{"$error":"#DIV/0!"}]
[{"$f":"'Equipes COLL Etab'!B25","v":0},null,null,null,{"$f":"AVERAGE(B28:D28)","v":{"$error":"#DIV/0!"}},null,null,null,{"$f":"AVERAGE(F28:H28)","v":{"$error":"#DIV/0!"}},null,null,null,{"$f":"AVERAGE(J28:L28)","v":{"$error":"#DIV/0!"}},null,null,null,{"$f":"AVERAGE(N28:P28)","v":{"$error":"#DIV/0!"}},null,null,null,{"$f":"AVERAGE(R28:T28)","v":{"$error":"#DIV/0!"}},null,null,null,{"$f":"AVERAGE(V28:X28)","v":{"$error":"#DIV/0!"}},null,{"$error":"#DIV/0!"},null,null,{"$f":"SUM(E28,I28,M28,Q28,U28,Y28,AA28,AB28)-AC28","v":{"$error":"#DIV/0!"}},{"$f":"SUM(AD28,AD29)","v":{"$error":"#DIV/0!"}}]
[{"$f":"'Equipes COLL Etab'!C25","v":0},null,null,null,{"$f":"AVERAGE(B29:D29)","v":{"$error":"#DIV/0!"}},null,null,null,{"$f":"AVERAGE(F29:H29)","v":{"$error":"#DIV/0!"}},null,null,null,{"$f":"AVERAGE(J29:L29)","v":{"$error":"#DIV/0!"}},null,null,null,{"$f":"AVERAGE(N29:P29)","v":{"$error":"#DIV/0!"}},null,null,null,{"$f":"AVERAGE(R29:T29)","v":{"$error":"#DIV/0!"}},null,null,null,{"$f":"AVERAGE(V29:X29)","v":{"$error":"#DIV/0!"}},null,{"$error":"#DIV/0!"},null,null,{"$f":"SUM(E29,I29,M29,Q29,U29,Y29,AA29,AB29)-AC29","v":{"$error":"#DIV/0!"}}]
[{"$f":"'Equipes COLL Etab'!B26","v":0},null,null,null,{"$f":"AVERAGE(B30:D30)","v":{"$error":"#DIV/0!"}},null,null,null,{"$f":"AVERAGE(F30:H30)","v":{"$error":"#DIV/0!"}},null,null,null,{"$f":"AVERAGE(J30:L30)","v":{"$error":"#DIV/0!"}},null,null,null,{"$f":"AVERAGE(N30:P30)","v":{"$error":"#DIV/0!"}},null,null,null,{"$f":"AVERAGE(R30:T30)","v":{"$error":"#DIV/0!"}},null,null,null,{"$f":"AVERAGE(V30:X30)","v":{"$error":"#DIV/0!"}},null,{"$error":"#DIV/0!"},null,null,{"$f":"SUM(E30,I30,M30,Q30,U30,Y30,AA30,AB30)-AC30","v":{"$error":"#DIV/0!"}},{"$f":"SUM(AD30,AD31)","v":{"$error":"#DIV/0!"}}]
[{"$f":"'Equipes COLL Etab'!C26","v":0},null,null,null,{"$error":"#DIV/0!"},null,null,null,{"$error":"#DIV/0!"},null,null,null,{"$error":"#DIV/0!"},null,null,null,{"$error":"#DIV/0!"},null,null,null,{"$error":"#DIV/0!"},null,null,null,{"$error":"#DIV/0!"},null,{"$error":"#DIV/0!"},null,null,{"$error":"#DIV/0!"}]
[{"$f":"'Equipes COLL Etab'!B27","v":0},null,null,null,{"$error":"#DIV/0!"},null,null,null,{"$error":"#DIV/0!"},null,null,null,{"$error":"#DIV/0!"},null,null,null,{"$error":"#DIV/0!"},null,null,null,{"$error":"#DIV/0!"},null,null,null,{"$error":"#DIV/0!"},null,{"$error":"#DIV/0!"},null,null,{"$error":"#DIV/0!"},{"$f":"SUM(AD32,AD33)","v":{"$error":"#DIV/0!"}}]
[{"$f":"'Equipes COLL Etab'!C27","v":0},null,null,null,{"$error":"#DIV/0!"},null,null,null,{"$error":"#DIV/0!"},null,null,null,{"$error":"#DIV/0!"},null,null,null,{"$error":"#DIV/0!"},null,null,null,{"$error":"#DIV/0!"},null,null,null,{"$error":"#DIV/0!"},null,{"$error":"#DIV/0!"},null,null,{"$error":"#DIV/0!"}]
[{"$f":"'Equipes COLL Etab'!B28","v":0},null,null,null,{"$error":"#DIV/0!"},null,null,null,{"$error":"#DIV/0!"},null,null,null,{"$error":"#DIV/0!"},null,null,null,{"$error":"#DIV/0!"},null,null,null,{"$error":"#DIV/0!"},null,null,null,{"$error":"#DIV/0!"},null,{"$error":"#DIV/0!"},null,null,{"$error":"#DIV/0!"},{"$f":"SUM(AD34,AD35)","v":{"$error":"#DIV/0!"}}]
[{"$f":"'Equipes COLL Etab'!C28","v":0},null,null,null,{"$error":"#DIV/0!"},null,null,null,{"$error":"#DIV/0!"},null,null,null,{"$error":"#DIV/0!"},null,null,null,{"$error":"#DIV/0!"},null,null,null,{"$error":"#DIV/0!"},null,null,null,{"$error":"#DIV/0!"},null,{"$error":"#DIV/0!"},null,null,{"$error":"#DIV/0!"}]
[{"$f":"'Equipes COLL Etab'!B29","v":0},null,null,null,{"$error":"#DIV/0!"},null,null,null,{"$error":"#DIV/0!"},null,null,null,{"$error":"#DIV/0!"},null,null,null,{"$error":"#DIV/0!"},null,null,null,{"$error":"#DIV/0!"},null,null,null,{"$error":"#DIV/0!"},null,{"$error":"#DIV/0!"},null,null,{"$error":"#DIV/0!"},{"$f":"SUM(AD36,AD37)","v":{"$error":"#DIV/0!"}}]
[{"$f":"'Equipes COLL Etab'!C29","v":0},null,null,null,{"$error":"#DIV/0!"},null,null,null,{"$error":"#DIV/0!"},null,null,null,{"$error":"#DIV/0!"},null,null,null,{"$error":"#DIV/0!"},null,null,null,{"$error":"#DIV/0!"},null,null,null,{"$error":"#DIV/0!"},null,{"$error":"#DIV/0!"},null,null,{"$error":"#DIV/0!"}]
[{"$f":"'Equipes COLL Etab'!B30","v":0},null,null,null,{"$f":"AVERAGE(B38:D38)","v":{"$error":"#DIV/0!"}},null,null,null,{"$f":"AVERAGE(F38:H38)","v":{"$error":"#DIV/0!"}},null,null,null,{"$f":"AVERAGE(J38:L38)","v":{"$error":"#DIV/0!"}},null,null,null,{"$f":"AVERAGE(N38:P38)","v":{"$error":"#DIV/0!"}},null,null,null,{"$f":"AVERAGE(R38:T38)","v":{"$error":"#DIV/0!"}},null,null,null,{"$f":"AVERAGE(V38:X38)","v":{"$error":"#DIV/0!"}},null,{"$error":"#DIV/0!"},null,null,{"$f":"SUM(E38,I38,M38,Q38,U38,Y38,AA38,AB38)-AC38","v":{"$error":"#DIV/0!"}},{"$f":"SUM(AD38,AD39)","v":{"$error":"#DIV/0!"}}]
[{"$f":"'Equipes COLL Etab'!C30","v":0},null,null,null,{"$error":"#DIV/0!"},null,null,null,{"$error":"#DIV/0!"},null,null,null,{"$error":"#DIV/0!"},null,null,null,{"$error":"#DIV/0!"},null,null,null,{"$error":"#DIV/0!"},null,null,null,{"$error":"#DIV/0!"},null,{"$error":"#DIV/0!"},null,null,{"$error":"#DIV/0!"}]
[{"$f":"'Equipes COLL Etab'!B31","v":0},null,null,null,{"$error":"#DIV/0!"},null,null,null,{"$error":"#DIV/0!"},null,null,null,{"$error":"#DIV/0!"},null,null,null,{"$error":"#DIV/0!"},null,null,null,{"$error":"#DIV/0!"},null,null,null,{"$error":"#DIV/0!"},null,{"$error":"#DIV/0!"},null,null,{"$error":"#DIV/0!"},{"$f":"SUM(AD40,AD41)","v":{"$error":"#DIV/0!"}}]
[{"$f":"'Equipes COLL Etab'!C31","v":0},null,null,null,{"$error":"#DIV/0!"},null,null,null,{"$error":"#DIV/0!"},null,null,null,{"$error":"#DIV/0!"},null,null,null,{"$error":"#DIV/0!"},null,null,null,{"$error":"#DIV/0!"},null,null,null,{"$error":"#DIV/0!"},null,{"$error":"#DIV/0!"},null,null,{"$error":"#DIV/0!"}]
[{"$f":"'Equipes COLL Etab'!B32","v":0},null,null,null,{"$f":"AVERAGE(B42:D42)","v":{"$error":"#DIV/0!"}},null,null,null,{"$f":"AVERAGE(F42:H42)","v":{"$error":"#DIV/0!"}},null,null,null,{"$f":"AVERAGE(J42:L42)","v":{"$error":"#DIV/0!"}},null,null,null,{"$f":"AVERAGE(N42:P42)","v":{"$error":"#DIV/0!"}},null,null,null,{"$f":"AVERAGE(R42:T42)","v":{"$error":"#DIV/0!"}},null,null,null,{"$f":"AVERAGE(V42:X42)","v":{"$error":"#DIV/0!"}},null,{"$error":"#DIV/0!"},null,null,{"$f":"SUM(E42,I42,M42,Q42,U42,Y42,AA42,AB42)-AC42","v":{"$error":"#DIV/0!"}},{"$f":"SUM(AD42,AD43)","v":{"$error":"#DIV/0!"}}]
[{"$f":"'Equipes COLL Etab'!C32","v":0},null,null,null,{"$error":"#DIV/0!"},null,null,null,{"$error":"#DIV/0!"},null,null,null,{"$error":"#DIV/0!"},null,null,null,{"$error":"#DIV/0!"},null,null,null,{"$error":"#DIV/0!"},null,null,null,{"$error":"#DIV/0!"},null,{"$error":"#DIV/0!"},null,null,{"$error":"#DIV/0!"}]

{"sheet":"Notation LYCEE Etab","index":5,"n_rows":27,"n_cols":39,"rows_kept":27,"cut":false,"hidden":false,"merged":[[25,30,26,30],[3,30,4,30],[5,30,6,30],[7,30,8,30],[9,30,10,30],[11,30,12,30],[13,30,14,30],[15,30,16,30],[17,30,18,30],[19,30,20,30],[21,30,22,30],[0,0,0,6],[0,7,0,17],[0,18,0,24],[56,30,57,30],[28,30,29,30],[30,30,31,30],[32,30,33,30],[34,30,35,30],[36,30,37,30],[38,30,39,30],[40,30,41,30],[45,30,46,30],[47,30,48,30],[49,30,50,30],[51,30,52,30],[23,30,24,30],[102,30,104,30],[61,30,62,30],[66,30,67,30],[71,30,72,30],[76,30,78,30],[79,30,81,30],[82,30,84,30],[86,30,88,30],[89,30,91,30],[92,30,94,30],[95,30,97,30],[99,30,101,30]]}
[{"$f":"'Equipes LYCEE Etab'!A6","v":"Catégorie lycée établissement"},null,null,null,null,null,null,{"$f":"'Equipes LYCEE Etab'!A1","v":"CHAMPIONNAT DEPARTEMENTAL GYM AERO "},null,null,null,null,null,null,null,null,null,null,{"$f":"'Equipes LYCEE Etab'!A3","v":"LONGEVILLE le 22 mars 2017"}]
[]
["ETAB LYCEE","S1","S2","S3","Synch","EPB1","EPB2","EPB3","Exé PB","ED1","ED2","ED3","Exé Diff","TA1","TA2","TA3","Talent art","CC1","CC2","CC3","Compo choré","Esp1","Esp2","Esp3","Espace","Diff","Diff coeff","Bonus Nombre","Péna","TOTAL","TOTAL",null,null,"Note","Points"]
[{"$f":"'Equipes LYCEE Etab'!B13","v":0},null,null,null,{"$f":"AVERAGE(B4:D4)","v":{"$error":"#DIV/0!"}},null,null,null,{"$f":"AVERAGE(F4:H4)","v":{"$error":"#DIV/0!"}},null,null,null,{"$f":"AVERAGE(J4:L4)","v":{"$error":"#DIV/0!"}},null,null,null,{"$f":"AVERAGE(N4:P4)","v":{"$error":"#DIV/0!"}},null,null,null,{"$f":"AVERAGE(R4:T4)","v":{"$error":"#DIV/0!"}},null,null,null,{"$f":"AVERAGE(V4:X4)","v":{"$error":"#DIV/0!"}},null,{"$f":"Z4*VLOOKUP(M4,$AH$4:$AI$19,2,TRUE)","v":{"$error":"#DIV/0!"}},null,null,{"$f":"SUM(E4,I4,M4,Q4,U4,Y4,AA4,AB4)-AC4","v":{"$error":"#DIV/0!"}},{"$f":"SUM(AD4,AD5)","v":{"$error":"#DIV/0!"}},null,null,1,0.1]
[{"$f":"'Equipes LYCEE Etab'!C13","v":0},null,null,null,{"$f":"AVERAGE(B5:D5)","v":{"$error":"#DIV/0!"}},null,null,null,{"$f":"AVERAGE(F5:H5)","v":{"$error":"#DIV/0!"}},null,null,null,{"$f":"AVERAGE(J5:L5)","v":{"$error":"#DIV/0!"}},null,null,null,{"$f":"AVERAGE(N5:P5)","v":{"$error":"#DIV/0!"}},null,null,null,{"$f":"AVERAGE(R5:T5)","v":{"$error":"#DIV/0!"}},null,null,null,{"$f":"AVERAGE(V5:X5)","v":{"$error":"#DIV/0!"}},null,{"$f":"Z5*VLOOKUP(M5,$AH$4:$AI$19,2,TRUE)","v":{"$error":"#DIV/0!"}},null,null,{"$f":"SUM(E5,I5,M5,Q5,U5,Y5,AA5,AB5)-AC5","v":{"$error":"#DIV/0!"}},null,null,null,2,0.1]
[{"$f":"'Equipes LYCEE Etab'!B14","v":0},null,null,null,{"$f":"AVERAGE(B6:D6)","v":{"$error":"#DIV/0!"}},null,null,null,{"$f":"AVERAGE(F6:H6)","v":{"$error":"#DIV/0!"}},null,null,null,{"$f":"AVERAGE(J6:L6)","v":{"$error":"#DIV/0!"}},null,null,null,{"$f":"AVERAGE(N6:P6)","v":{"$error":"#DIV/0!"}},null,null,null,{"$f":"AVERAGE(R6:T6)","v":{"$error":"#DIV/0!"}},null,null,null,{"$f":"AVERAGE(V6:X6)","v":{"$error":"#DIV/0!"}},null,{"$f":"Z6*VLOOKUP(M6,$AH$4:$AI$19,2,TRUE)","v":{"$error":"#DIV/0!"}},null,null,{"$f":"SUM(E6,I6,M6,Q6,U6,Y6,AA6,AB6)-AC6","v":{"$error":"#DIV/0!"}},{"$f":"SUM(AD6,AD7)","v":{"$error":"#DIV/0!"}},null,null,3,0.1]
[{"$f":"'Equipes LYCEE Etab'!C14","v":0},null,null,null,{"$error":"#DIV/0!"},null,null,null,{"$error":"#DIV/0!"},null,null,null,{"$error":"#DIV/0!"},null,null,null,{"$error":"#DIV/0!"},null,null,null,{"$error":"#DIV/0!"},null,null,null,{"$error":"#DIV/0!"},null,{"$error":"#DIV/0!"},null,null,{"$error":"#DIV/0!"},null,null,null,4,0.1]
[{"$f":"'Equipes LYCEE Etab'!B15","v":0},null,null,null,{"$error":"#DIV/0!"},null,null,null,{"$error":"#DIV/0!"},null,null,null,{"$error":"#DIV/0!"},null,null,null,{"$error":"#DIV/0!"},null,null,null,{"$error":"#DIV/0!"},null,null,null,{"$error":"#DIV/0!"},null,{"$error":"#DIV/0!"},null,null,{"$error":"#DIV/0!"},{"$f":"SUM(AD8,AD9)","v":{"$error":"#DIV/0!"}},null,null,5,0.25]
[{"$f":"'Equipes LYCEE Etab'!C15","v":0},null,null,null,{"$error":"#DIV/0!"},null,null,null,{"$error":"#DIV/0!"},null,null,null,{"$error":"#DIV/0!"},null,null,null,{"$error":"#DIV/0!"},null,null,null,{"$error":"#DIV/0!"},null,null,null,{"$error":"#DIV/0!"},null,{"$error":"#DIV/0!"},null,null,{"$error":"#DIV/0!"},null,null,null,6,0.25,null,null,null," "]
[{"$f":"'Equipes LYCEE Etab'!B16","v":0},null,null,null,{"$error":"#DIV/0!"},null,null,null,{"$error":"#DIV/0!"},null,null,null,{"$error":"#DIV/0!"},null,null,null,{"$error":"#DIV/0!"},null,null,null,{"$error":"#DIV/0!"},null,null,null,{"$error":"#DIV/0!"},null,{"$error":"#DIV/0!"},null,null,{"$error":"#DIV/0!"},{"$f":"SUM(AD10,AD11)","v":{"$error":"#DIV/0!"}},null,null,7,0.25]
[{"$f":"'Equipes LYCEE Etab'!C16","v":0},null,null,null,{"$error":"#DIV/0!"},null,null,null,{"$error":"#DIV/0!"},null,null,null,{"$error":"#DIV/0!"},null,null,null,{"$error":"#DIV/0!"},null,null,null,{"$error":"#DIV/0!"},null,null,null,{"$error":"#DIV/0!"},null,{"$error":"#DIV/0!"},null,null,{"$error":"#DIV/0!"},null,null,null,8,0.5]
[{"$f":"'Equipes LYCEE Etab'!B17","v":0},null,null,null,{"$error":"#DIV/0!"},null,null,null,{"$error":"#DIV/0!"},null,null,null,{"$error":"#DIV/0!"},null,null,null,{"$error":"#DIV/0!"},null,null,null,{"$error":"#DIV/0!"},null,null,null,{"$error":"#DIV/0!"},null,{"$error":"#DIV/0!"},null,null,{"$error":"#DIV/0!"},{"$f":"SUM(AD12,AD13)","v":{"$error":"#DIV/0!"}},null,null,9,0.5]
[{"$f":"'Equipes LYCEE Etab'!C17","v":0},null,null,null,{"$error":"#DIV/0!"},null,null,null,{"$error":"#DIV/0!"},null,null,null,{"$error":"#DIV/0!"},null,null,null,{"$error":"#DIV/0!"},null,null,null,{"$error":"#DIV/0!"},null,null,null,{"$error":"#DIV/0!"},null,{"$error":"#DIV/0!"},null,null,{"$error":"#DIV/0!"},null,null,null,10,0.5]
[{"$f":"'Equipes LYCEE Etab'!B18","v":0},null,null,null,{"$error":"#DIV/0!"},null,null,null,{"$error":"#DIV/0!"},null,null,null,{"$error":"#DIV/0!"},null,null,null,{"$error":"#DIV/0!"},null,null,null,{"$error":"#DIV/0!"},null,null,null,{"$error":"#DIV/0!"},null,{"$error":"#DIV/0!"},null,null,{"$error":"#DIV/0!"},{"$f":"SUM(AD14,AD15)","v":{"$error":"#DIV/0!"}},null,null,11,0.75]
[{"$f":"'Equipes LYCEE Etab'!C18","v":0},null,null,null,{"$error":"#DIV/0!"},null,null,null,{"$error":"#DIV/0!"},null,null,null,{"$error":"#DIV/0!"},null,null,null,{"$error":"#DIV/0!"},null,null,null,{"$error":"#DIV/0!"},null,null,null,{"$error":"#DIV/0!"},null,{"$error":"#DIV/0!"},null,null,{"$error":"#DIV/0!"},null,null,null,12,0.75]
[{"$f":"'Equipes LYCEE Etab'!B19","v":0},null,null,null,{"$error":"#DIV/0!"},null,null,null,{"$error":"#DIV/0!"},null,null,null,{"$error":"#DIV/0!"},null,null,null,{"$error":"#DIV/0!"},null,null,null,{"$error":"#DIV/0!"},null,null,null,{"$error":"#DIV/0!"},null,{"$error":"#DIV/0!"},null,null,{"$error":"#DIV/0!"},{"$f":"SUM(AD16,AD17)","v":{"$error":"#DIV/0!"}},null,null,13,0.75]
[{"$f":"'Equipes LYCEE Etab'!C19","v":0},null,null,null,{"$error":"#DIV/0!"},null,null,null,{"$error":"#DIV/0!"},null,null,null,{"$error":"#DIV/0!"},null,null,null,{"$error":"#DIV/0!"},null,null,null,{"$error":"#DIV/0!"},null,null,null,{"$error":"#DIV/0!"},null,{"$error":"#DIV/0!"},null,null,{"$error":"#DIV/0!"},null,null,null,14,1]
[{"$f":"'Equipes LYCEE Etab'!B20","v":0},null,null,null,{"$error":"#DIV/0!"},null,null,null,{"$error":"#DIV/0!"},null,null,null,{"$error":"#DIV/0!"},null,null,null,{"$error":"#DIV/0!"},null,null,null,{"$error":"#DIV/0!"},null,null,null,{"$error":"#DIV/0!"},null,{"$error":"#DIV/0!"},null,null,{"$error":"#DIV/0!"},{"$f":"SUM(AD18,AD19)","v":{"$error":"#DIV/0!"}},null,null,15,1]
[{"$f":"'Equipes LYCEE Etab'!C20","v":0},null,null,null,{"$error":"#DIV/0!"},null,null,null,{"$error":"#DIV/0!"},null,null,null,{"$error":"#DIV/0!"},null,null,null,{"$error":"#DIV/0!"},null,null,null,{"$error":"#DIV/0!"},null,null,null,{"$error":"#DIV/0!"},null,{"$error":"#DIV/0!"},null,null,{"$error":"#DIV/0!"},null,null,null,16,1]
[{"$f":"'Equipes LYCEE Etab'!B21","v":0},null,null,null,{"$error":"#DIV/0!"},null,null,null,{"$error":"#DIV/0!"},null,null,null,{"$error":"#DIV/0!"},null,null,null,{"$error":"#DIV/0!"},null,null,null,{"$error":"#DIV/0!"},null,null,null,{"$error":"#DIV/0!"},null,{"$error":"#DIV/0!"},null,null,{"$error":"#DIV/0!"},{"$f":"SUM(AD20,AD21)","v":{"$error":"#DIV/0!"}}]
[{"$f":"'Equipes LYCEE Etab'!C21","v":0},null,null,null,{"$error":"#DIV/0!"},null,null,null,{"$error":"#DIV/0!"},null,null,null,{"$error":"#DIV/0!"},null,null,null,{"$error":"#DIV/0!"},null,null,null,{"$error":"#DIV/0!"},null,null,null,{"$error":"#DIV/0!"},null,{"$error":"#DIV/0!"},null,null,{"$error":"#DIV/0!"}]
[{"$f":"'Equipes LYCEE Etab'!B22","v":0},null,null,null,{"$error":"#DIV/0!"},null,null,null,{"$error":"#DIV/0!"},null,null,null,{"$error":"#DIV/0!"},null,null,null,{"$error":"#DIV/0!"},null,null,null,{"$error":"#DIV/0!"},null,null,null,{"$error":"#DIV/0!"},null,{"$error":"#DIV/0!"},null,null,{"$error":"#DIV/0!"},{"$f":"SUM(AD22,AD23)","v":{"$error":"#DIV/0!"}}]
[{"$f":"'Equipes LYCEE Etab'!C22","v":0},null,null,null,{"$error":"#DIV/0!"},null,null,null,{"$error":"#DIV/0!"},null,null,null,{"$error":"#DIV/0!"},null,null,null,{"$error":"#DIV/0!"},null,null,null,{"$error":"#DIV/0!"},null,null,null,{"$error":"#DIV/0!"},null,{"$error":"#DIV/0!"},null,null,{"$error":"#DIV/0!"}]
[{"$f":"'Equipes LYCEE Etab'!B23","v":0},null,null,null,{"$error":"#DIV/0!"},null,null,null,{"$error":"#DIV/0!"},null,null,null,{"$error":"#DIV/0!"},null,null,null,{"$error":"#DIV/0!"},null,null,null,{"$error":"#DIV/0!"},null,null,null,{"$error":"#DIV/0!"},null,{"$error":"#DIV/0!"},null,null,{"$error":"#DIV/0!"},{"$f":"SUM(AD24,AD25)","v":{"$error":"#DIV/0!"}}]
[{"$f":"'Equipes LYCEE Etab'!C23","v":0},null,null,null,{"$error":"#DIV/0!"},null,null,null,{"$error":"#DIV/0!"},null,null,null,{"$error":"#DIV/0!"},null,null,null,{"$error":"#DIV/0!"},null,null,null,{"$error":"#DIV/0!"},null,null,null,{"$error":"#DIV/0!"},null,{"$error":"#DIV/0!"},null,null,{"$error":"#DIV/0!"}]
[{"$f":"'Equipes LYCEE Etab'!B24","v":0},null,null,null,{"$error":"#DIV/0!"},null,null,null,{"$error":"#DIV/0!"},null,null,null,{"$error":"#DIV/0!"},null,null,null,{"$error":"#DIV/0!"},null,null,null,{"$error":"#DIV/0!"},null,null,null,{"$error":"#DIV/0!"},null,{"$error":"#DIV/0!"},null,null,{"$error":"#DIV/0!"},{"$error":"#DIV/0!"}]
[{"$f":"'Equipes LYCEE Etab'!C24","v":0},null,null,null,{"$error":"#DIV/0!"},null,null,null,{"$error":"#DIV/0!"},null,null,null,{"$error":"#DIV/0!"},null,null,null,{"$error":"#DIV/0!"},null,null,null,{"$error":"#DIV/0!"},null,null,null,{"$error":"#DIV/0!"},null,{"$error":"#DIV/0!"},null,null,{"$error":"#DIV/0!"}]

{"sheet":"Notation COLL Exc","index":6,"n_rows":27,"n_cols":39,"rows_kept":27,"cut":false,"hidden":false,"merged":[[25,30,26,30],[3,30,4,30],[5,30,6,30],[7,30,8,30],[9,30,10,30],[11,30,12,30],[13,30,14,30],[15,30,16,30],[17,30,18,30],[19,30,20,30],[21,30,22,30],[0,0,0,6],[0,7,0,17],[0,18,0,24],[56,30,57,30],[28,30,29,30],[30,30,31,30],[32,30,33,30],[34,30,35,30],[36,30,37,30],[38,30,39,30],[40,30,41,30],[45,30,46,30],[47,30,48,30],[49,30,50,30],[51,30,52,30],[23,30,24,30],[102,30,104,30],[61,30,62,30],[66,30,67,30],[71,30,72,30],[76,30,78,30],[79,30,81,30],[82,30,84,30],[86,30,88,30],[89,30,91,30],[92,30,94,30],[95,30,97,30],[99,30,101,30]]}
[{"$f":"'Equipes COLL Exc'!A6","v":"Catégorie collège Excellence"},null,null,null,null,null,null,{"$f":"'Equipes COLL Exc'!A1","v":"CHAMPIONNAT DEPARTEMENTAL GYM AERO "},null,null,null,null,null,null,null,null,null,null,{"$f":"'Equipes COLL Exc'!A3","v":"LONGEVILLE le 22 mars 2017"}]
[]
["EXC COLL","S1","S2","S3","Synch","EPB1","EPB2","EPB3","Exé PB","ED1","ED2","ED3","Exé Diff","TA1","TA2","TA3","Talent art","CC1","CC2","CC3","Compo choré","Esp1","Esp2","Esp3","Espace","Diff","Diff coeff","Bonus Nombre","Péna","TOTAL","TOTAL",null,null,"Note","Points"]
[{"$f":"'Equipes COLL Exc'!B13","v":0},null,null,null,{"$f":"AVERAGE(B4:D4)","v":{"$error":"#DIV/0!"}},null,null,null,{"$f":"AVERAGE(F4:H4)","v":{"$error":"#DIV/0!"}},null,null,null,{"$f":"AVERAGE(J4:L4)","v":{"$error":"#DIV/0!"}},null,null,null,{"$f":"AVERAGE(N4:P4)","v":{"$error":"#DIV/0!"}},null,null,null,{"$f":"AVERAGE(R4:T4)","v":{"$error":"#DIV/0!"}},null,null,null,{"$f":"AVERAGE(V4:X4)","v":{"$error":"#DIV/0!"}},null,{"$f":"Z4*VLOOKUP(M4,$AH$4:$AI$26,2,TRUE)","v":{"$error":"#DIV/0!"}},null,null,{"$f":"SUM(E4,I4,M4,Q4,U4,Y4,AA4,AB4)-AC4","v":{"$error":"#DIV/0!"}},{"$f":"SUM(AD4,AD5)","v":{"$error":"#DIV/0!"}},null,null,1,0.1]
[{"$f":"'Equipes COLL Exc'!C13","v":0},null,null,null,{"$f":"AVERAGE(B5:D5)","v":{"$error":"#DIV/0!"}},null,null,null,{"$f":"AVERAGE(F5:H5)","v":{"$error":"#DIV/0!"}},null,null,null,{"$f":"AVERAGE(J5:L5)","v":{"$error":"#DIV/0!"}},null,null,null,{"$f":"AVERAGE(N5:P5)","v":{"$error":"#DIV/0!"}},null,null,null,{"$f":"AVERAGE(R5:T5)","v":{"$error":"#DIV/0!"}},null,null,null,{"$f":"AVERAGE(V5:X5)","v":{"$error":"#DIV/0!"}},null,{"$f":"Z5*VLOOKUP(M5,$AH$4:$AI$26,2,TRUE)","v":{"$error":"#DIV/0!"}},null,null,{"$f":"SUM(E5,I5,M5,Q5,U5,Y5,AA5,AB5)-AC5","v":{"$error":"#DIV/0!"}},null,null,null,2,0.1]
[{"$f":"'Equipes COLL Exc'!B14","v":0},null,null,null,{"$f":"AVERAGE(B6:D6)","v":{"$error":"#DIV/0!"}},null,null,null,{"$f":"AVERAGE(F6:H6)","v":{"$error":"#DIV/0!"}},null,null,null,{"$f":"AVERAGE(J6:L6)","v":{"$error":"#DIV/0!"}},null,null,null,{"$f":"AVERAGE(N6:P6)","v":{"$error":"#DIV/0!"}},null,null,null,{"$f":"AVERAGE(R6:T6)","v":{"$error":"#DIV/0!"}},null,null,null,{"$f":"AVERAGE(V6:X6)","v":{"$error":"#DIV/0!"}},null,{"$f":"Z6*VLOOKUP(M6,$AH$4:$AI$26,2,TRUE)","v":{"$error":"#DIV/0!"}},null,null,{"$f":"SUM(E6,I6,M6,Q6,U6,Y6,AA6,AB6)-AC6","v":{"$error":"#DIV/0!"}},{"$f":"SUM(AD6,AD7)","v":{"$error":"#DIV/0!"}},null,null,3,0.1]
[{"$f":"'Equipes COLL Exc'!C14","v":0},null,null,null,{"$error":"#DIV/0!"},null,null,null,{"$error":"#DIV/0!"},null,null,null,{"$error":"#DIV/0!"},null,null,null,{"$error":"#DIV/0!"},null,null,null,{"$error":"#DIV/0!"},null,null,null,{"$error":"#DIV/0!"},null,{"$error":"#DIV/0!"},null,null,{"$error":"#DIV/0!"},null,null,null,4,0.1]
[{"$f":"'Equipes COLL Exc'!B15","v":0},null,null,null,{"$error":"#DIV/0!"},null,null,null,{"$error":"#DIV/0!"},null,null,null,{"$error":"#DIV/0!"},null,null,null,{"$error":"#DIV/0!"},null,null,null,{"$error":"#DIV/0!"},null,null,null,{"$error":"#DIV/0!"},null,{"$error":"#DIV/0!"},null,null,{"$error":"#DIV/0!"},{"$f":"SUM(AD8,AD9)","v":{"$error":"#DIV/0!"}},null,null,5,0.1]
[{"$f":"'Equipes COLL Exc'!C15","v":0},null,null,null,{"$error":"#DIV/0!"},null,null,null,{"$error":"#DIV/0!"},null,null,null,{"$error":"#DIV/0!"},null,null,null,{"$error":"#DIV/0!"},null,null,null,{"$error":"#DIV/0!"},null,null,null,{"$error":"#DIV/0!"},null,{"$error":"#DIV/0!"},null,null,{"$error":"#DIV/0!"},null,null,null,6,0.1,null,null,null," "]
[{"$f":"'Equipes COLL Exc'!B16","v":0},null,null,null,{"$error":"#DIV/0!"},null,null,null,{"$error":"#DIV/0!"},null,null,null,{"$error":"#DIV/0!"},null,null,null,{"$error":"#DIV/0!"},null,null,null,{"$error":"#DIV/0!"},null,null,null,{"$error":"#DIV/0!"},null,{"$error":"#DIV/0!"},null,null,{"$error":"#DIV/0!"},{"$f":"SUM(AD10,AD11)","v":{"$error":"#DIV/0!"}},null,null,7,0.3]
[{"$f":"'Equipes COLL Exc'!C16","v":0},null,null,null,{"$error":"#DIV/0!"},null,null,null,{"$error":"#DIV/0!"},null,null,null,{"$error":"#DIV/0!"},null,null,null,{"$error":"#DIV/0!"},null,null,null,{"$error":"#DIV/0!"},null,null,null,{"$error":"#DIV/0!"},null,{"$error":"#DIV/0!"},null,null,{"$error":"#DIV/0!"},null,null,null,8,0.3]
[{"$f":"'Equipes COLL Exc'!B17","v":0},null,null,null,{"$error":"#DIV/0!"},null,null,null,{"$error":"#DIV/0!"},null,null,null,{"$error":"#DIV/0!"},null,null,null,{"$error":"#DIV/0!"},null,null,null,{"$error":"#DIV/0!"},null,null,null,{"$error":"#DIV/0!"},null,{"$error":"#DIV/0!"},null,null,{"$error":"#DIV/0!"},{"$f":"SUM(AD12,AD13)","v":{"$error":"#DIV/0!"}},null,null,9,0.3]
[{"$f":"'Equipes COLL Exc'!C17","v":0},null,null,null,{"$error":"#DIV/0!"},null,null,null,{"$error":"#DIV/0!"},null,null,null,{"$error":"#DIV/0!"},null,null,null,{"$error":"#DIV/0!"},null,null,null,{"$error":"#DIV/0!"},null,null,null,{"$error":"#DIV/0!"},null,{"$error":"#DIV/0!"},null,null,{"$error":"#DIV/0!"},null,null,null,10,0.3]
[{"$f":"'Equipes COLL Exc'!B18","v":0},null,null,null,{"$error":"#DIV/0!"},null,null,null,{"$error":"#DIV/0!"},null,null,null,{"$error":"#DIV/0!"},null,null,null,{"$error":"#DIV/0!"},null,null,null,{"$error":"#DIV/0!"},null,null,null,{"$error":"#DIV/0!"},null,{"$error":"#DIV/0!"},null,null,{"$error":"#DIV/0!"},{"$f":"SUM(AD14,AD15)","v":{"$error":"#DIV/0!"}},null,null,11,0.6]
[{"$f":"'Equipes COLL Exc'!C18","v":0},null,null,null,{"$error":"#DIV/0!"},null,null,null,{"$error":"#DIV/0!"},null,null,null,{"$error":"#DIV/0!"},null,null,null,{"$error":"#DIV/0!"},null,null,null,{"$error":"#DIV/0!"},null,null,null,{"$error":"#DIV/0!"},null,{"$error":"#DIV/0!"},null,null,{"$error":"#DIV/0!"},null,null,null,12,0.6]
[{"$f":"'Equipes COLL Exc'!B19","v":0},null,null,null,{"$error":"#DIV/0!"},null,null,null,{"$error":"#DIV/0!"},null,null,null,{"$error":"#DIV/0!"},null,null,null,{"$error":"#DIV/0!"},null,null,null,{"$error":"#DIV/0!"},null,null,null,{"$error":"#DIV/0!"},null,{"$error":"#DIV/0!"},null,null,{"$error":"#DIV/0!"},{"$f":"SUM(AD16,AD17)","v":{"$error":"#DIV/0!"}},null,null,14,0.6]
[{"$f":"'Equipes COLL Exc'!C19","v":0},null,null,null,{"$error":"#DIV/0!"},null,null,null,{"$error":"#DIV/0!"},null,null,null,{"$error":"#DIV/0!"},null,null,null,{"$error":"#DIV/0!"},null,null,null,{"$error":"#DIV/0!"},null,null,null,{"$error":"#DIV/0!"},null,{"$error":"#DIV/0!"},null,null,{"$error":"#DIV/0!"},null,null,null,15,0.8]
[{"$f":"'Equipes COLL Exc'!B20","v":0},null,null,null,{"$error":"#DIV/0!"},null,null,null,{"$error":"#DIV/0!"},null,null,null,{"$error":"#DIV/0!"},null,null,null,{"$error":"#DIV/0!"},null,null,null,{"$error":"#DIV/0!"},null,null,null,{"$error":"#DIV/0!"},null,{"$error":"#DIV/0!"},null,null,{"$error":"#DIV/0!"},{"$f":"SUM(AD18,AD19)","v":{"$error":"#DIV/0!"}},null,null,16,0.8]
[{"$f":"'Equipes COLL Exc'!C20","v":0},null,null,null,{"$error":"#DIV/0!"},null,null,null,{"$error":"#DIV/0!"},null,null,null,{"$error":"#DIV/0!"},null,null,null,{"$error":"#DIV/0!"},null,null,null,{"$error":"#DIV/0!"},null,null,null,{"$error":"#DIV/0!"},null,{"$error":"#DIV/0!"},null,null,{"$error":"#DIV/0!"},null,null,null,17,0.8]
[{"$f":"'Equipes COLL Exc'!B21","v":0},null,null,null,{"$error":"#DIV/0!"},null,null,null,{"$error":"#DIV/0!"},null,null,null,{"$error":"#DIV/0!"},null,null,null,{"$error":"#DIV/0!"},null,null,null,{"$error":"#DIV/0!"},null,null,null,{"$error":"#DIV/0!"},null,{"$error":"#DIV/0!"},null,null,{"$error":"#DIV/0!"},{"$f":"SUM(AD20,AD21)","v":{"$error":"#DIV/0!"}},null,null,18,0.8]
[{"$f":"'Equipes COLL Exc'!C21","v":0},null,null,null,{"$error":"#DIV/0!"},null,null,null,{"$error":"#DIV/0!"},null,null,null,{"$error":"#DIV/0!"},null,null,null,{"$error":"#DIV/0!"},null,null,null,{"$error":"#DIV/0!"},null,null,null,{"$error":"#DIV/0!"},null,{"$error":"#DIV/0!"},null,null,{"$error":"#DIV/0!"},null,null,null,19,1]
[{"$f":"'Equipes COLL Exc'!B22","v":0},null,null,null,{"$error":"#DIV/0!"},null,null,null,{"$error":"#DIV/0!"},null,null,null,{"$error":"#DIV/0!"},null,null,null,{"$error":"#DIV/0!"},null,null,null,{"$error":"#DIV/0!"},null,null,null,{"$error":"#DIV/0!"},null,{"$error":"#DIV/0!"},null,null,{"$error":"#DIV/0!"},{"$f":"SUM(AD22,AD23)","v":{"$error":"#DIV/0!"}},null,null,20,1]
[{"$f":"'Equipes COLL Exc'!C22","v":0},null,null,null,{"$error":"#DIV/0!"},null,null,null,{"$error":"#DIV/0!"},null,null,null,{"$error":"#DIV/0!"},null,null,null,{"$error":"#DIV/0!"},null,null,null,{"$error":"#DIV/0!"},null,null,null,{"$error":"#DIV/0!"},null,{"$error":"#DIV/0!"},null,null,{"$error":"#DIV/0!"},null,null,null,21,1]
[{"$f":"'Equipes COLL Exc'!B23","v":0},null,null,null,{"$error":"#DIV/0!"},null,null,null,{"$error":"#DIV/0!"},null,null,null,{"$error":"#DIV/0!"},null,null,null,{"$error":"#DIV/0!"},null,null,null,{"$error":"#DIV/0!"},null,null,null,{"$error":"#DIV/0!"},null,{"$error":"#DIV/0!"},null,null,{"$error":"#DIV/0!"},{"$f":"SUM(AD24,AD25)","v":{"$error":"#DIV/0!"}},null,null,22,1.2]
[{"$f":"'Equipes COLL Exc'!C23","v":0},null,null,null,{"$error":"#DIV/0!"},null,null,null,{"$error":"#DIV/0!"},null,null,null,{"$error":"#DIV/0!"},null,null,null,{"$error":"#DIV/0!"},null,null,null,{"$error":"#DIV/0!"},null,null,null,{"$error":"#DIV/0!"},null,{"$error":"#DIV/0!"},null,null,{"$error":"#DIV/0!"},null,null,null,23,1.2]
[{"$f":"'Equipes COLL Exc'!B24","v":0},null,null,null,{"$error":"#DIV/0!"},null,null,null,{"$error":"#DIV/0!"},null,null,null,{"$error":"#DIV/0!"},null,null,null,{"$error":"#DIV/0!"},null,null,null,{"$error":"#DIV/0!"},null,null,null,{"$error":"#DIV/0!"},null,{"$error":"#DIV/0!"},null,null,{"$error":"#DIV/0!"},{"$error":"#DIV/0!"},null,null,24,1.2]
[{"$f":"'Equipes COLL Exc'!C24","v":0},null,null,null,{"$error":"#DIV/0!"},null,null,null,{"$error":"#DIV/0!"},null,null,null,{"$error":"#DIV/0!"},null,null,null,{"$error":"#DIV/0!"},null,null,null,{"$error":"#DIV/0!"},null,null,null,{"$error":"#DIV/0!"},null,{"$error":"#DIV/0!"},null,null,{"$error":"#DIV/0!"}]

{"sheet":"Notation LYCEE Exc","index":7,"n_rows":27,"n_cols":39,"rows_kept":27,"cut":false,"hidden":false,"merged":[[0,0,0,6],[0,7,0,17],[0,18,0,24],[28,30,29,30],[30,30,31,30],[32,30,33,30],[34,30,35,30],[3,30,4,30],[5,30,6,30],[7,30,8,30],[9,30,10,30],[17,30,18,30],[19,30,20,30],[21,30,22,30],[23,30,24,30],[25,30,26,30],[11,30,12,30],[79,30,81,30],[38,30,39,30],[40,30,41,30],[45,30,46,30],[47,30,48,30],[49,30,50,30],[51,30,52,30],[56,30,57,30],[61,30,62,30],[66,30,67,30],[71,30,72,30],[76,30,78,30],[36,30,37,30],[13,30,14,30],[15,30,16,30],[102,30,104,30],[82,30,84,30],[86,30,88,30],[89,30,91,30],[92,30,94,30],[95,30,97,30],[99,30,101,30]]}
[{"$f":"'Equipes LYCEE Exc'!A6","v":"Catégorie lycée Excellence"},null,null,null,null,null,null,{"$f":"'Equipes LYCEE Exc'!A1","v":"CHAMPIONNAT DEPARTEMENTAL GYM AERO "},null,null,null,null,null,null,null,null,null,null,{"$f":"'Equipes LYCEE Exc'!A3","v":"LONGEVILLE le 22 mars 2017"}]
[]
["EXC LYCEE","S1","S2","S3","Synch","EPB1","EPB2","EPB3","Exé PB","ED1","ED2","ED3","Exé Diff","TA1","TA2","TA3","Talent art","CC1","CC2","CC3","Compo choré","Esp1","Esp2","Esp3","Espace","Diff","Diff coeff","Bonus Nombre","Péna","TOTAL","TOTAL",null,null,"Note","Points"]
[{"$f":"'Equipes LYCEE Exc'!B13","v":0},null,null,null,{"$f":"AVERAGE(B4:D4)","v":{"$error":"#DIV/0!"}},null,null,null,{"$f":"AVERAGE(F4:H4)","v":{"$error":"#DIV/0!"}},null,null,null,{"$f":"AVERAGE(J4:L4)","v":{"$error":"#DIV/0!"}},null,null,null,{"$f":"AVERAGE(N4:P4)","v":{"$error":"#DIV/0!"}},null,null,null,{"$f":"AVERAGE(R4:T4)","v":{"$error":"#DIV/0!"}},null,null,null,{"$f":"AVERAGE(V4:X4)","v":{"$error":"#DIV/0!"}},null,{"$f":"Z4*VLOOKUP(M4,$AH$4:$AI$26,2,TRUE)","v":{"$error":"#DIV/0!"}},null,null,{"$f":"SUM(E4,I4,M4,Q4,U4,Y4,AA4,AB4)-AC4","v":{"$error":"#DIV/0!"}},{"$f":"SUM(AD4,AD5)","v":{"$error":"#DIV/0!"}},null,null,1,0.1]
[{"$f":"'Equipes LYCEE Exc'!C13","v":0},null,null,null,{"$f":"AVERAGE(B5:D5)","v":{"$error":"#DIV/0!"}},null,null,null,{"$f":"AVERAGE(F5:H5)","v":{"$error":"#DIV/0!"}},null,null,null,{"$f":"AVERAGE(J5:L5)","v":{"$error":"#DIV/0!"}},null,null,null,{"$f":"AVERAGE(N5:P5)","v":{"$error":"#DIV/0!"}},null,null,null,{"$f":"AVERAGE(R5:T5)","v":{"$error":"#DIV/0!"}},null,null,null,{"$f":"AVERAGE(V5:X5)","v":{"$error":"#DIV/0!"}},null,{"$f":"Z5*VLOOKUP(M5,$AH$4:$AI$26,2,TRUE)","v":{"$error":"#DIV/0!"}},null,null,{"$f":"SUM(E5,I5,M5,Q5,U5,Y5,AA5,AB5)-AC5","v":{"$error":"#DIV/0!"}},null,null,null,2,0.1]
[{"$f":"'Equipes LYCEE Exc'!B14","v":0},null,null,null,{"$f":"AVERAGE(B6:D6)","v":{"$error":"#DIV/0!"}},null,null,null,{"$f":"AVERAGE(F6:H6)","v":{"$error":"#DIV/0!"}},null,null,null,{"$f":"AVERAGE(J6:L6)","v":{"$error":"#DIV/0!"}},null,null,null,{"$f":"AVERAGE(N6:P6)","v":{"$error":"#DIV/0!"}},null,null,null,{"$f":"AVERAGE(R6:T6)","v":{"$error":"#DIV/0!"}},null,null,null,{"$f":"AVERAGE(V6:X6)","v":{"$error":"#DIV/0!"}},null,{"$f":"Z6*VLOOKUP(M6,$AH$4:$AI$26,2,TRUE)","v":{"$error":"#DIV/0!"}},null,null,{"$f":"SUM(E6,I6,M6,Q6,U6,Y6,AA6,AB6)-AC6","v":{"$error":"#DIV/0!"}},{"$f":"SUM(AD6,AD7)","v":{"$error":"#DIV/0!"}},null,null,3,0.1]
[{"$f":"'Equipes LYCEE Exc'!C14","v":0},null,null,null,{"$error":"#DIV/0!"},null,null,null,{"$error":"#DIV/0!"},null,null,null,{"$error":"#DIV/0!"},null,null,null,{"$error":"#DIV/0!"},null,null,null,{"$error":"#DIV/0!"},null,null,null,{"$error":"#DIV/0!"},null,{"$error":"#DIV/0!"},null,null,{"$error":"#DIV/0!"},null,null,null,4,0.1]
[{"$f":"'Equipes LYCEE Exc'!B15","v":0},null,null,null,{"$error":"#DIV/0!"},null,null,null,{"$error":"#DIV/0!"},null,null,null,{"$error":"#DIV/0!"},null,null,null,{"$error":"#DIV/0!"},null,null,null,{"$error":"#DIV/0!"},null,null,null,{"$error":"#DIV/0!"},null,{"$error":"#DIV/0!"},null,null,{"$error":"#DIV/0!"},{"$f":"SUM(AD8,AD9)","v":{"$error":"#DIV/0!"}},null,null,5,0.1]
[{"$f":"'Equipes LYCEE Exc'!C15","v":0},null,null,null,{"$error":"#DIV/0!"},null,null,null,{"$error":"#DIV/0!"},null,null,null,{"$error":"#DIV/0!"},null,null,null,{"$error":"#DIV/0!"},null,null,null,{"$error":"#DIV/0!"},null,null,null,{"$error":"#DIV/0!"},null,{"$error":"#DIV/0!"},null,null,{"$error":"#DIV/0!"},null,null,null,6,0.1,null,null,null," "]
[{"$f":"'Equipes LYCEE Exc'!B16","v":0},null,null,null,{"$error":"#DIV/0!"},null,null,null,{"$error":"#DIV/0!"},null,null,null,{"$error":"#DIV/0!"},null,null,null,{"$error":"#DIV/0!"},null,null,null,{"$error":"#DIV/0!"},null,null,null,{"$error":"#DIV/0!"},null,{"$error":"#DIV/0!"},null,null,{"$error":"#DIV/0!"},{"$f":"SUM(AD10,AD11)","v":{"$error":"#DIV/0!"}},null,null,7,0.3]
[{"$f":"'Equipes LYCEE Exc'!C16","v":0},null,null,null,{"$error":"#DIV/0!"},null,null,null,{"$error":"#DIV/0!"},null,null,null,{"$error":"#DIV/0!"},null,null,null,{"$error":"#DIV/0!"},null,null,null,{"$error":"#DIV/0!"},null,null,null,{"$error":"#DIV/0!"},null,{"$error":"#DIV/0!"},null,null,{"$error":"#DIV/0!"},null,null,null,8,0.3]
[{"$f":"'Equipes LYCEE Exc'!B17","v":0},null,null,null,{"$error":"#DIV/0!"},null,null,null,{"$error":"#DIV/0!"},null,null,null,{"$error":"#DIV/0!"},null,null,null,{"$error":"#DIV/0!"},null,null,null,{"$error":"#DIV/0!"},null,null,null,{"$error":"#DIV/0!"},null,{"$error":"#DIV/0!"},null,null,{"$error":"#DIV/0!"},{"$f":"SUM(AD12,AD13)","v":{"$error":"#DIV/0!"}},null,null,9,0.3]
[{"$f":"'Equipes LYCEE Exc'!C17","v":0},null,null,null,{"$error":"#DIV/0!"},null,null,null,{"$error":"#DIV/0!"},null,null,null,{"$error":"#DIV/0!"},null,null,null,{"$error":"#DIV/0!"},null,null,null,{"$error":"#DIV/0!"},null,null,null,{"$error":"#DIV/0!"},null,{"$error":"#DIV/0!"},null,null,{"$error":"#DIV/0!"},null,null,null,10,0.3]
[{"$f":"'Equipes LYCEE Exc'!B18","v":0},null,null,null,{"$error":"#DIV/0!"},null,null,null,{"$error":"#DIV/0!"},null,null,null,{"$error":"#DIV/0!"},null,null,null,{"$error":"#DIV/0!"},null,null,null,{"$error":"#DIV/0!"},null,null,null,{"$error":"#DIV/0!"},null,{"$error":"#DIV/0!"},null,null,{"$error":"#DIV/0!"},{"$f":"SUM(AD14,AD15)","v":{"$error":"#DIV/0!"}},null,null,11,0.6]
[{"$f":"'Equipes LYCEE Exc'!C18","v":0},null,null,null,{"$error":"#DIV/0!"},null,null,null,{"$error":"#DIV/0!"},null,null,null,{"$error":"#DIV/0!"},null,null,null,{"$error":"#DIV/0!"},null,null,null,{"$error":"#DIV/0!"},null,null,null,{"$error":"#DIV/0!"},null,{"$error":"#DIV/0!"},null,null,{"$error":"#DIV/0!"},null,null,null,12,0.6]
[{"$f":"'Equipes LYCEE Exc'!B19","v":0},null,null,null,{"$error":"#DIV/0!"},null,null,null,{"$error":"#DIV/0!"},null,null,null,{"$error":"#DIV/0!"},null,null,null,{"$error":"#DIV/0!"},null,null,null,{"$error":"#DIV/0!"},null,null,null,{"$error":"#DIV/0!"},null,{"$error":"#DIV/0!"},null,null,{"$error":"#DIV/0!"},{"$f":"SUM(AD16,AD17)","v":{"$error":"#DIV/0!"}},null,null,14,0.6]
[{"$f":"'Equipes LYCEE Exc'!C19","v":0},null,null,null,{"$error":"#DIV/0!"},null,null,null,{"$error":"#DIV/0!"},null,null,null,{"$error":"#DIV/0!"},null,null,null,{"$error":"#DIV/0!"},null,null,null,{"$error":"#DIV/0!"},null,null,null,{"$error":"#DIV/0!"},null,{"$error":"#DIV/0!"},null,null,{"$error":"#DIV/0!"},null,null,null,15,0.8]
[{"$f":"'Equipes LYCEE Exc'!B20","v":0},null,null,null,{"$error":"#DIV/0!"},null,null,null,{"$error":"#DIV/0!"},null,null,null,{"$error":"#DIV/0!"},null,null,null,{"$error":"#DIV/0!"},null,null,null,{"$error":"#DIV/0!"},null,null,null,{"$error":"#DIV/0!"},null,{"$error":"#DIV/0!"},null,null,{"$error":"#DIV/0!"},{"$f":"SUM(AD18,AD19)","v":{"$error":"#DIV/0!"}},null,null,16,0.8]
[{"$f":"'Equipes LYCEE Exc'!C20","v":0},null,null,null,{"$error":"#DIV/0!"},null,null,null,{"$error":"#DIV/0!"},null,null,null,{"$error":"#DIV/0!"},null,null,null,{"$error":"#DIV/0!"},null,null,null,{"$error":"#DIV/0!"},null,null,null,{"$error":"#DIV/0!"},null,{"$error":"#DIV/0!"},null,null,{"$error":"#DIV/0!"},null,null,null,17,0.8]
[{"$f":"'Equipes LYCEE Exc'!B21","v":0},null,null,null,{"$error":"#DIV/0!"},null,null,null,{"$error":"#DIV/0!"},null,null,null,{"$error":"#DIV/0!"},null,null,null,{"$error":"#DIV/0!"},null,null,null,{"$error":"#DIV/0!"},null,null,null,{"$error":"#DIV/0!"},null,{"$error":"#DIV/0!"},null,null,{"$error":"#DIV/0!"},{"$f":"SUM(AD20,AD21)","v":{"$error":"#DIV/0!"}},null,null,18,0.8]
[{"$f":"'Equipes LYCEE Exc'!C21","v":0},null,null,null,{"$error":"#DIV/0!"},null,null,null,{"$error":"#DIV/0!"},null,null,null,{"$error":"#DIV/0!"},null,null,null,{"$error":"#DIV/0!"},null,null,null,{"$error":"#DIV/0!"},null,null,null,{"$error":"#DIV/0!"},null,{"$error":"#DIV/0!"},null,null,{"$error":"#DIV/0!"},null,null,null,19,1]
[{"$f":"'Equipes LYCEE Exc'!B22","v":0},null,null,null,{"$error":"#DIV/0!"},null,null,null,{"$error":"#DIV/0!"},null,null,null,{"$error":"#DIV/0!"},null,null,null,{"$error":"#DIV/0!"},null,null,null,{"$error":"#DIV/0!"},null,null,null,{"$error":"#DIV/0!"},null,{"$error":"#DIV/0!"},null,null,{"$error":"#DIV/0!"},{"$f":"SUM(AD22,AD23)","v":{"$error":"#DIV/0!"}},null,null,20,1]
[{"$f":"'Equipes LYCEE Exc'!C22","v":0},null,null,null,{"$error":"#DIV/0!"},null,null,null,{"$error":"#DIV/0!"},null,null,null,{"$error":"#DIV/0!"},null,null,null,{"$error":"#DIV/0!"},null,null,null,{"$error":"#DIV/0!"},null,null,null,{"$error":"#DIV/0!"},null,{"$error":"#DIV/0!"},null,null,{"$error":"#DIV/0!"},null,null,null,21,1]
[{"$f":"'Equipes LYCEE Exc'!B23","v":0},null,null,null,{"$error":"#DIV/0!"},null,null,null,{"$error":"#DIV/0!"},null,null,null,{"$error":"#DIV/0!"},null,null,null,{"$error":"#DIV/0!"},null,null,null,{"$error":"#DIV/0!"},null,null,null,{"$error":"#DIV/0!"},null,{"$error":"#DIV/0!"},null,null,{"$error":"#DIV/0!"},{"$f":"SUM(AD24,AD25)","v":{"$error":"#DIV/0!"}},null,null,22,1.2]
[{"$f":"'Equipes LYCEE Exc'!C23","v":0},null,null,null,{"$error":"#DIV/0!"},null,null,null,{"$error":"#DIV/0!"},null,null,null,{"$error":"#DIV/0!"},null,null,null,{"$error":"#DIV/0!"},null,null,null,{"$error":"#DIV/0!"},null,null,null,{"$error":"#DIV/0!"},null,{"$error":"#DIV/0!"},null,null,{"$error":"#DIV/0!"},null,null,null,23,1.2]
[{"$f":"'Equipes LYCEE Exc'!B24","v":0},null,null,null,{"$error":"#DIV/0!"},null,null,null,{"$error":"#DIV/0!"},null,null,null,{"$error":"#DIV/0!"},null,null,null,{"$error":"#DIV/0!"},null,null,null,{"$error":"#DIV/0!"},null,null,null,{"$error":"#DIV/0!"},null,{"$error":"#DIV/0!"},null,null,{"$error":"#DIV/0!"},{"$error":"#DIV/0!"},null,null,24,1.2]
[{"$f":"'Equipes LYCEE Exc'!C24","v":0},null,null,null,{"$error":"#DIV/0!"},null,null,null,{"$error":"#DIV/0!"},null,null,null,{"$error":"#DIV/0!"},null,null,null,{"$error":"#DIV/0!"},null,null,null,{"$error":"#DIV/0!"},null,null,null,{"$error":"#DIV/0!"},null,{"$error":"#DIV/0!"},null,null,{"$error":"#DIV/0!"}]

{"sheet":"Récap total COLL Etab","index":8,"n_rows":24,"n_cols":6,"rows_kept":24,"cut":false,"hidden":false,"merged":[[0,0,1,5],[16,6,17,6],[18,6,19,6],[20,6,21,6]]}
["RECAP TOTAL COLLEGE ETAB"]
[]
[]
["Equipe","Etablissement","1er passage","2ème passage","Total","Vérif"]
[{"$f":"'Notation COLL Etab'!A4","v":0},{"$f":"'Notation COLL Etab'!A5","v":0},{"$f":"'Notation COLL Etab'!AD4","v":{"$error":"#DIV/0!"}},{"$f":"'Notation COLL Etab'!AD5","v":{"$error":"#DIV/0!"}},{"$f":"SUM(C5,D5)","v":{"$error":"#DIV/0!"}},{"$f":"IFERROR('Notation COLL Etab'!AE4,0)","v":0}]
[{"$f":"'Notation COLL Etab'!A6","v":0},{"$f":"'Notation COLL Etab'!A7","v":0},{"$f":"'Notation COLL Etab'!AD6","v":{"$error":"#DIV/0!"}},{"$f":"'Notation COLL Etab'!AD7","v":{"$error":"#DIV/0!"}},{"$f":"SUM(C6,D6)","v":{"$error":"#DIV/0!"}},{"$f":"IFERROR('Notation COLL Etab'!AE6,0)","v":0}]
[{"$f":"'Notation COLL Etab'!A8","v":0},{"$f":"'Notation COLL Etab'!A9","v":0},{"$f":"'Notation COLL Etab'!AD8","v":{"$error":"#DIV/0!"}},{"$f":"'Notation COLL Etab'!AD9","v":{"$error":"#DIV/0!"}},{"$f":"SUM(C7,D7)","v":{"$error":"#DIV/0!"}},{"$f":"IFERROR('Notation COLL Etab'!AE8,0)","v":0}]
[{"$f":"'Notation COLL Etab'!A10","v":0},{"$f":"'Notation COLL Etab'!A11","v":0},{"$f":"'Notation COLL Etab'!AD10","v":{"$error":"#DIV/0!"}},{"$f":"'Notation COLL Etab'!AD11","v":{"$error":"#DIV/0!"}},{"$f":"SUM(C8,D8)","v":{"$error":"#DIV/0!"}},{"$f":"IFERROR('Notation COLL Etab'!AE10,0)","v":0}]
[{"$f":"'Notation COLL Etab'!A12","v":0},{"$f":"'Notation COLL Etab'!A13","v":0},{"$f":"'Notation COLL Etab'!AD12","v":{"$error":"#DIV/0!"}},{"$f":"'Notation COLL Etab'!AD13","v":{"$error":"#DIV/0!"}},{"$f":"SUM(C9,D9)","v":{"$error":"#DIV/0!"}},{"$f":"IFERROR('Notation COLL Etab'!AE12,0)","v":0}]
[{"$f":"'Notation COLL Etab'!A14","v":0},{"$f":"'Notation COLL Etab'!A15","v":0},{"$f":"'Notation COLL Etab'!AD14","v":{"$error":"#DIV/0!"}},{"$f":"'Notation COLL Etab'!AD15","v":{"$error":"#DIV/0!"}},{"$f":"SUM(C10,D10)","v":{"$error":"#DIV/0!"}},{"$f":"IFERROR('Notation COLL Etab'!AE14,0)","v":0}]
[{"$f":"'Notation COLL Etab'!A16","v":0},{"$f":"'Notation COLL Etab'!A17","v":0},{"$f":"'Notation COLL Etab'!AD16","v":{"$error":"#DIV/0!"}},{"$f":"'Notation COLL Etab'!AD17","v":{"$error":"#DIV/0!"}},{"$f":"SUM(C11,D11)","v":{"$error":"#DIV/0!"}},{"$f":"IFERROR('Notation COLL Etab'!AE16,0)","v":0}]
[{"$f":"'Notation COLL Etab'!A18","v":0},{"$f":"'Notation COLL Etab'!A19","v":0},{"$f":"'Notation COLL Etab'!AD18","v":{"$error":"#DIV/0!"}},{"$f":"'Notation COLL Etab'!AD19","v":{"$error":"#DIV/0!"}},{"$f":"SUM(C12,D12)","v":{"$error":"#DIV/0!"}},{"$f":"IFERROR('Notation COLL Etab'!AE18,0)","v":0}]
[{"$f":"'Notation COLL Etab'!A20","v":0},{"$f":"'Notation COLL Etab'!A21","v":0},{"$f":"'Notation COLL Etab'!AD20","v":{"$error":"#DIV/0!"}},{"$f":"'Notation COLL Etab'!AD21","v":{"$error":"#DIV/0!"}},{"$f":"SUM(C13,D13)","v":{"$error":"#DIV/0!"}},{"$f":"IFERROR('Notation COLL Etab'!AE20,0)","v":0}]
[{"$f":"'Notation COLL Etab'!A22","v":0},{"$f":"'Notation COLL Etab'!A23","v":0},{"$f":"'Notation COLL Etab'!AD22","v":{"$error":"#DIV/0!"}},{"$f":"'Notation COLL Etab'!AD23","v":{"$error":"#DIV/0!"}},{"$f":"SUM(C14,D14)","v":{"$error":"#DIV/0!"}},{"$f":"IFERROR('Notation COLL Etab'!AE22,0)","v":0}]
[{"$f":"'Notation COLL Etab'!A24","v":0},{"$f":"'Notation COLL Etab'!A25","v":0},{"$f":"'Notation COLL Etab'!AD24","v":{"$error":"#DIV/0!"}},{"$f":"'Notation COLL Etab'!AD25","v":{"$error":"#DIV/0!"}},{"$f":"SUM(C15,D15)","v":{"$error":"#DIV/0!"}},{"$f":"IFERROR('Notation COLL Etab'!AE24,0)","v":0}]
[{"$f":"'Notation COLL Etab'!A26","v":0},{"$f":"'Notation COLL Etab'!A27","v":0},{"$f":"'Notation COLL Etab'!AD26","v":{"$error":"#DIV/0!"}},{"$f":"'Notation COLL Etab'!AD27","v":{"$error":"#DIV/0!"}},{"$f":"SUM(C16,D16)","v":{"$error":"#DIV/0!"}},{"$f":"IFERROR('Notation COLL Etab'!AE26,0)","v":0}]
[{"$f":"'Notation COLL Etab'!A28","v":0},{"$f":"'Notation COLL Etab'!A29","v":0},{"$f":"'Notation COLL Etab'!AD28","v":{"$error":"#DIV/0!"}},{"$f":"'Notation COLL Etab'!AD29","v":{"$error":"#DIV/0!"}},{"$error":"#DIV/0!"},{"$f":"IFERROR('Notation COLL Etab'!AE28,0)","v":0}]
[{"$f":"'Notation COLL Etab'!A30","v":0},{"$f":"'Notation COLL Etab'!A31","v":0},{"$f":"'Notation COLL Etab'!AD30","v":{"$error":"#DIV/0!"}},{"$f":"'Notation COLL Etab'!AD31","v":{"$error":"#DIV/0!"}},{"$error":"#DIV/0!"},{"$f":"IFERROR('Notation COLL Etab'!AE30,0)","v":0}]
[{"$f":"'Notation COLL Etab'!A32","v":0},{"$f":"'Notation COLL Etab'!A33","v":0},{"$f":"'Notation COLL Etab'!AD32","v":{"$error":"#DIV/0!"}},{"$f":"'Notation COLL Etab'!AD33","v":{"$error":"#DIV/0!"}},{"$f":"SUM(C19,D19)","v":{"$error":"#DIV/0!"}},{"$f":"IFERROR('Notation COLL Etab'!AE32,0)","v":0}]
[{"$f":"'Notation COLL Etab'!A34","v":0},{"$f":"'Notation COLL Etab'!A35","v":0},{"$f":"'Notation COLL Etab'!AD34","v":{"$error":"#DIV/0!"}},{"$f":"'Notation COLL Etab'!AD35","v":{"$error":"#DIV/0!"}},{"$error":"#DIV/0!"},{"$f":"IFERROR('Notation COLL Etab'!AE34,0)","v":0}]
[{"$f":"'Notation COLL Etab'!A36","v":0},{"$f":"'Notation COLL Etab'!A37","v":0},{"$f":"'Notation COLL Etab'!AD36","v":{"$error":"#DIV/0!"}},{"$f":"'Notation COLL Etab'!AD37","v":{"$error":"#DIV/0!"}},{"$error":"#DIV/0!"},{"$f":"IFERROR('Notation COLL Etab'!AE36,0)","v":0}]
[{"$f":"'Notation COLL Etab'!A38","v":0},{"$f":"'Notation COLL Etab'!A39","v":0},{"$f":"'Notation COLL Etab'!AD38","v":{"$error":"#DIV/0!"}},{"$f":"'Notation COLL Etab'!AD39","v":{"$error":"#DIV/0!"}},{"$error":"#DIV/0!"},{"$f":"IFERROR('Notation COLL Etab'!AE38,0)","v":0}]
[{"$f":"'Notation COLL Etab'!A40","v":0},{"$f":"'Notation COLL Etab'!A41","v":0},{"$f":"'Notation COLL Etab'!AD40","v":{"$error":"#DIV/0!"}},{"$f":"'Notation COLL Etab'!AD41","v":{"$error":"#DIV/0!"}},{"$error":"#DIV/0!"},{"$f":"IFERROR('Notation COLL Etab'!AE40,0)","v":0}]
[{"$f":"'Notation COLL Etab'!A42","v":0},{"$f":"'Notation COLL Etab'!A43","v":0},{"$f":"'Notation COLL Etab'!AD42","v":{"$error":"#DIV/0!"}},{"$f":"'Notation COLL Etab'!AD43","v":{"$error":"#DIV/0!"}},{"$error":"#DIV/0!"},{"$f":"IFERROR('Notation COLL Etab'!AE42,0)","v":0}]

{"sheet":"PALMARES COLL ETAB","index":9,"n_rows":24,"n_cols":7,"rows_kept":24,"cut":false,"hidden":false,"merged":[[0,0,1,6],[16,7,17,7],[18,7,19,7],[20,7,21,7]]}
["PALMARES COLLEGE ETABLISSEMENT"]
[]
[]
["Classement","Equipe","Etablissement","Ville","1er passage","2ème passage","TOTAL"]
["1er",{"$f":"'Notation COLL Etab'!A4","v":0},{"$f":"'Notation COLL Etab'!A5","v":0},{"$f":"'Equipes COLL Etab'!D13","v":0},{"$f":"'Notation COLL Etab'!AD4","v":{"$error":"#DIV/0!"}},{"$f":"'Notation COLL Etab'!AD5","v":{"$error":"#DIV/0!"}},{"$f":"IFERROR('Notation COLL Etab'!AE4,0)","v":0}]
["2ème",{"$f":"'Notation COLL Etab'!A6","v":0},{"$f":"'Notation COLL Etab'!A7","v":0},{"$f":"'Equipes COLL Etab'!D14","v":0},{"$f":"'Notation COLL Etab'!AD6","v":{"$error":"#DIV/0!"}},{"$f":"'Notation COLL Etab'!AD7","v":{"$error":"#DIV/0!"}},{"$f":"IFERROR('Notation COLL Etab'!AE6,0)","v":0}]
["3ème",{"$f":"'Notation COLL Etab'!A8","v":0},{"$f":"'Notation COLL Etab'!A9","v":0},{"$f":"'Equipes COLL Etab'!D15","v":0},{"$f":"'Notation COLL Etab'!AD8","v":{"$error":"#DIV/0!"}},{"$f":"'Notation COLL Etab'!AD9","v":{"$error":"#DIV/0!"}},{"$f":"IFERROR('Notation COLL Etab'!AE8,0)","v":0}]
["4ème",{"$f":"'Notation COLL Etab'!A10","v":0},{"$f":"'Notation COLL Etab'!A11","v":0},{"$f":"'Equipes COLL Etab'!D16","v":0},{"$f":"'Notation COLL Etab'!AD10","v":{"$error":"#DIV/0!"}},{"$f":"'Notation COLL Etab'!AD11","v":{"$error":"#DIV/0!"}},{"$f":"IFERROR('Notation COLL Etab'!AE10,0)","v":0}]
["5ème",{"$f":"'Notation COLL Etab'!A12","v":0},{"$f":"'Notation COLL Etab'!A13","v":0},{"$f":"'Equipes COLL Etab'!D17","v":0},{"$f":"'Notation COLL Etab'!AD12","v":{"$error":"#DIV/0!"}},{"$f":"'Notation COLL Etab'!AD13","v":{"$error":"#DIV/0!"}},{"$f":"IFERROR('Notation COLL Etab'!AE12,0)","v":0}]
["6ème",{"$f":"'Notation COLL Etab'!A14","v":0},{"$f":"'Notation COLL Etab'!A15","v":0},{"$f":"'Equipes COLL Etab'!D18","v":0},{"$f":"'Notation COLL Etab'!AD14","v":{"$error":"#DIV/0!"}},{"$f":"'Notation COLL Etab'!AD15","v":{"$error":"#DIV/0!"}},{"$f":"IFERROR('Notation COLL Etab'!AE14,0)","v":0}]
["7ème",{"$f":"'Notation COLL Etab'!A16","v":0},{"$f":"'Notation COLL Etab'!A17","v":0},{"$f":"'Equipes COLL Etab'!D19","v":0},{"$f":"'Notation COLL Etab'!AD16","v":{"$error":"#DIV/0!"}},{"$f":"'Notation COLL Etab'!AD17","v":{"$error":"#DIV/0!"}},{"$f":"IFERROR('Notation COLL Etab'!AE16,0)","v":0}]
["8ème",{"$f":"'Notation COLL Etab'!A18","v":0},{"$f":"'Notation COLL Etab'!A19","v":0},{"$f":"'Equipes COLL Etab'!D20","v":0},{"$f":"'Notation COLL Etab'!AD18","v":{"$error":"#DIV/0!"}},{"$f":"'Notation COLL Etab'!AD19","v":{"$error":"#DIV/0!"}},{"$f":"IFERROR('Notation COLL Etab'!AE18,0)","v":0}]
["9ème",{"$f":"'Notation COLL Etab'!A20","v":0},{"$f":"'Notation COLL Etab'!A21","v":0},{"$f":"'Equipes COLL Etab'!D21","v":0},{"$f":"'Notation COLL Etab'!AD20","v":{"$error":"#DIV/0!"}},{"$f":"'Notation COLL Etab'!AD21","v":{"$error":"#DIV/0!"}},{"$f":"IFERROR('Notation COLL Etab'!AE20,0)","v":0}]
["10ème",{"$f":"'Notation COLL Etab'!A22","v":0},{"$f":"'Notation COLL Etab'!A25","v":0},{"$f":"'Equipes COLL Etab'!D22","v":0},{"$f":"'Notation COLL Etab'!AD18","v":{"$error":"#DIV/0!"}},{"$f":"'Notation COLL Etab'!AD25","v":{"$error":"#DIV/0!"}},{"$f":"IFERROR('Notation COLL Etab'!AE22,0)","v":0}]
["11ème",{"$f":"'Notation COLL Etab'!A24","v":0},{"$f":"'Notation COLL Etab'!A27","v":0},{"$f":"'Equipes COLL Etab'!D23","v":0},{"$f":"'Notation COLL Etab'!AD20","v":{"$error":"#DIV/0!"}},{"$f":"'Notation COLL Etab'!AD27","v":{"$error":"#DIV/0!"}},{"$f":"IFERROR('Notation COLL Etab'!AE24,0)","v":0}]
["12ème",{"$f":"'Notation COLL Etab'!A26","v":0},{"$f":"'Notation COLL Etab'!A29","v":0},{"$f":"'Equipes COLL Etab'!D24","v":0},{"$f":"'Notation COLL Etab'!AD22","v":{"$error":"#DIV/0!"}},{"$f":"'Notation COLL Etab'!AD29","v":{"$error":"#DIV/0!"}},{"$f":"IFERROR('Notation COLL Etab'!AE26,0)","v":0}]
["13ème",{"$f":"'Notation COLL Etab'!A28","v":0},{"$f":"'Notation COLL Etab'!A29","v":0},{"$f":"'Equipes COLL Etab'!D25","v":0},{"$f":"'Notation COLL Etab'!AD28","v":{"$error":"#DIV/0!"}},{"$f":"'Notation COLL Etab'!AD29","v":{"$error":"#DIV/0!"}},{"$f":"IFERROR('Notation COLL Etab'!AE28,0)","v":0}]
["14ème",{"$f":"'Notation COLL Etab'!A30","v":0},{"$f":"'Notation COLL Etab'!A31","v":0},{"$f":"'Equipes COLL Etab'!D26","v":0},{"$f":"'Notation COLL Etab'!AD30","v":{"$error":"#DIV/0!"}},{"$f":"'Notation COLL Etab'!AD31","v":{"$error":"#DIV/0!"}},{"$f":"IFERROR('Notation COLL Etab'!AE30,0)","v":0}]
["15ème",{"$f":"'Notation COLL Etab'!A32","v":0},{"$f":"'Notation COLL Etab'!A33","v":0},{"$f":"'Equipes COLL Etab'!D27","v":0},{"$f":"'Notation COLL Etab'!AD32","v":{"$error":"#DIV/0!"}},{"$f":"'Notation COLL Etab'!AD33","v":{"$error":"#DIV/0!"}},{"$f":"IFERROR('Notation COLL Etab'!AE32,0)","v":0}]
["16ème",{"$f":"'Notation COLL Etab'!A34","v":0},{"$f":"'Notation COLL Etab'!A35","v":0},{"$f":"'Equipes COLL Etab'!D28","v":0},{"$f":"'Notation COLL Etab'!AD34","v":{"$error":"#DIV/0!"}},{"$f":"'Notation COLL Etab'!AD35","v":{"$error":"#DIV/0!"}},{"$f":"IFERROR('Notation COLL Etab'!AE34,0)","v":0}]
["17ème",{"$f":"'Notation COLL Etab'!A36","v":0},{"$f":"'Notation COLL Etab'!A37","v":0},{"$f":"'Equipes COLL Etab'!D29","v":0},{"$f":"'Notation COLL Etab'!AD36","v":{"$error":"#DIV/0!"}},{"$f":"'Notation COLL Etab'!AD37","v":{"$error":"#DIV/0!"}},{"$f":"IFERROR('Notation COLL Etab'!AE36,0)","v":0}]
["18ème",{"$f":"'Notation COLL Etab'!A38","v":0},{"$f":"'Notation COLL Etab'!A39","v":0},{"$f":"'Equipes COLL Etab'!D30","v":0},{"$f":"'Notation COLL Etab'!AD38","v":{"$error":"#DIV/0!"}},{"$f":"'Notation COLL Etab'!AD39","v":{"$error":"#DIV/0!"}},{"$f":"IFERROR('Notation COLL Etab'!AE38,0)","v":0}]
["19ème",{"$f":"'Notation COLL Etab'!A40","v":0},{"$f":"'Notation COLL Etab'!A41","v":0},{"$f":"'Equipes COLL Etab'!D31","v":0},{"$f":"'Notation COLL Etab'!AD40","v":{"$error":"#DIV/0!"}},{"$f":"'Notation COLL Etab'!AD41","v":{"$error":"#DIV/0!"}},{"$f":"IFERROR('Notation COLL Etab'!AE40,0)","v":0}]
["20ème",{"$f":"'Notation COLL Etab'!A42","v":0},{"$f":"'Notation COLL Etab'!A43","v":0},{"$f":"'Equipes COLL Etab'!D32","v":0},{"$f":"'Notation COLL Etab'!AD42","v":{"$error":"#DIV/0!"}},{"$f":"'Notation COLL Etab'!AD43","v":{"$error":"#DIV/0!"}},{"$f":"IFERROR('Notation COLL Etab'!AE42,0)","v":0}]

{"sheet":"Récap total LYCEE Etab","index":10,"n_rows":16,"n_cols":6,"rows_kept":16,"cut":false,"hidden":false,"merged":[[0,0,1,5],[16,0,17,0],[16,2,17,2],[16,3,17,3],[16,4,17,4],[16,5,17,5],[18,0,19,0],[18,2,19,2],[18,3,19,3],[18,4,19,4],[18,5,19,5],[20,0,21,0],[20,2,21,2],[20,3,21,3],[20,4,21,4],[20,5,21,5]]}
["RECAP TOTAL LYCEE ETAB"]
[]
[]
["Equipe","Etablissement","1er passage","2ème passage","Total","Vérif"]
[{"$f":"'Notation LYCEE Etab'!A4","v":0},{"$f":"'Notation LYCEE Etab'!A5","v":0},{"$f":"'Notation LYCEE Etab'!AD4","v":{"$error":"#DIV/0!"}},{"$f":"'Notation LYCEE Etab'!AD5","v":{"$error":"#DIV/0!"}},{"$f":"SUM(C5,D5)","v":{"$error":"#DIV/0!"}},{"$f":"IFERROR('Notation LYCEE Etab'!AE4,0)","v":0}]
[{"$f":"'Notation LYCEE Etab'!A6","v":0},{"$f":"'Notation LYCEE Etab'!A7","v":0},{"$f":"'Notation LYCEE Etab'!AD6","v":{"$error":"#DIV/0!"}},{"$f":"'Notation LYCEE Etab'!AD7","v":{"$error":"#DIV/0!"}},{"$f":"SUM(C6,D6)","v":{"$error":"#DIV/0!"}},{"$f":"IFERROR('Notation LYCEE Etab'!AE6,0)","v":0}]
[{"$f":"'Notation LYCEE Etab'!A8","v":0},{"$f":"'Notation LYCEE Etab'!A9","v":0},{"$f":"'Notation LYCEE Etab'!AD8","v":{"$error":"#DIV/0!"}},{"$f":"'Notation LYCEE Etab'!AD9","v":{"$error":"#DIV/0!"}},{"$f":"SUM(C7,D7)","v":{"$error":"#DIV/0!"}},{"$f":"IFERROR('Notation LYCEE Etab'!AE8,0)","v":0}]
[{"$f":"'Notation LYCEE Etab'!A10","v":0},{"$f":"'Notation LYCEE Etab'!A11","v":0},{"$f":"'Notation LYCEE Etab'!AD10","v":{"$error":"#DIV/0!"}},{"$f":"'Notation LYCEE Etab'!AD11","v":{"$error":"#DIV/0!"}},{"$f":"SUM(C8,D8)","v":{"$error":"#DIV/0!"}},{"$f":"IFERROR('Notation LYCEE Etab'!AE10,0)","v":0}]
[{"$f":"'Notation LYCEE Etab'!A12","v":0},{"$f":"'Notation LYCEE Etab'!A13","v":0},{"$f":"'Notation LYCEE Etab'!AD12","v":{"$error":"#DIV/0!"}},{"$f":"'Notation LYCEE Etab'!AD13","v":{"$error":"#DIV/0!"}},{"$f":"SUM(C9,D9)","v":{"$error":"#DIV/0!"}},{"$f":"IFERROR('Notation LYCEE Etab'!AE12,0)","v":0}]
[{"$f":"'Notation LYCEE Etab'!A14","v":0},{"$f":"'Notation LYCEE Etab'!A15","v":0},{"$f":"'Notation LYCEE Etab'!AD14","v":{"$error":"#DIV/0!"}},{"$f":"'Notation LYCEE Etab'!AD15","v":{"$error":"#DIV/0!"}},{"$f":"SUM(C10,D10)","v":{"$error":"#DIV/0!"}},{"$f":"IFERROR('Notation LYCEE Etab'!AE14,0)","v":0}]
[{"$f":"'Notation LYCEE Etab'!A16","v":0},{"$f":"'Notation LYCEE Etab'!A17","v":0},{"$f":"'Notation LYCEE Etab'!AD16","v":{"$error":"#DIV/0!"}},{"$f":"'Notation LYCEE Etab'!AD17","v":{"$error":"#DIV/0!"}},{"$f":"SUM(C11,D11)","v":{"$error":"#DIV/0!"}},{"$f":"IFERROR('Notation LYCEE Etab'!AE16,0)","v":0}]
[{"$f":"'Notation LYCEE Etab'!A18","v":0},{"$f":"'Notation LYCEE Etab'!A19","v":0},{"$f":"'Notation LYCEE Etab'!AD18","v":{"$error":"#DIV/0!"}},{"$f":"'Notation LYCEE Etab'!AD19","v":{"$error":"#DIV/0!"}},{"$f":"SUM(C12,D12)","v":{"$error":"#DIV/0!"}},{"$f":"IFERROR('Notation LYCEE Etab'!AE18,0)","v":0}]
[{"$f":"'Notation LYCEE Etab'!A20","v":0},{"$f":"'Notation LYCEE Etab'!A21","v":0},{"$f":"'Notation LYCEE Etab'!AD20","v":{"$error":"#DIV/0!"}},{"$f":"'Notation LYCEE Etab'!AD21","v":{"$error":"#DIV/0!"}},{"$f":"SUM(C13,D13)","v":{"$error":"#DIV/0!"}},{"$f":"IFERROR('Notation LYCEE Etab'!AE20,0)","v":0}]
[{"$f":"'Notation LYCEE Etab'!A22","v":0},{"$f":"'Notation LYCEE Etab'!A23","v":0},{"$f":"'Notation LYCEE Etab'!AD22","v":{"$error":"#DIV/0!"}},{"$f":"'Notation LYCEE Etab'!AD23","v":{"$error":"#DIV/0!"}},{"$f":"SUM(C14,D14)","v":{"$error":"#DIV/0!"}},{"$f":"IFERROR('Notation LYCEE Etab'!AE22,0)","v":0}]
[{"$f":"'Notation LYCEE Etab'!A24","v":0},{"$f":"'Notation LYCEE Etab'!A25","v":0},{"$f":"'Notation LYCEE Etab'!AD24","v":{"$error":"#DIV/0!"}},{"$f":"'Notation LYCEE Etab'!AD25","v":{"$error":"#DIV/0!"}},{"$f":"SUM(C15,D15)","v":{"$error":"#DIV/0!"}},{"$f":"IFERROR('Notation LYCEE Etab'!AE24,0)","v":0}]
[{"$f":"'Notation LYCEE Etab'!A26","v":0},{"$f":"'Notation LYCEE Etab'!A27","v":0},{"$f":"'Notation LYCEE Etab'!AD26","v":{"$error":"#DIV/0!"}},{"$f":"'Notation LYCEE Etab'!AD27","v":{"$error":"#DIV/0!"}},{"$f":"SUM(C16,D16)","v":{"$error":"#DIV/0!"}},{"$f":"IFERROR('Notation LYCEE Etab'!AE26,0)","v":0}]

{"sheet":"PALMARES LYCEE ETAB","index":11,"n_rows":16,"n_cols":7,"rows_kept":16,"cut":false,"hidden":false,"merged":[[16,1,17,1],[16,4,17,4],[16,5,17,5],[16,6,17,6],[0,0,1,6],[18,1,19,1],[18,4,19,4],[18,5,19,5],[18,6,19,6],[20,1,21,1],[20,4,21,4],[20,5,21,5],[20,6,21,6]]}
["PALMARES LYCEE ETABLISSEMENT"]
[]
[]
["Classement","Equipe","Etablissement","Ville","1er passage","2ème passage","Total"]
["1er",{"$f":"'Notation LYCEE Etab'!A4","v":0},{"$f":"'Notation LYCEE Etab'!A5","v":0},{"$f":"'Equipes LYCEE Etab'!D13","v":0},{"$f":"'Notation LYCEE Etab'!AD4","v":{"$error":"#DIV/0!"}},{"$f":"'Notation LYCEE Etab'!AD5","v":{"$error":"#DIV/0!"}},{"$f":"IFERROR('Notation LYCEE Etab'!AE4,0)","v":0}]
["2ème",{"$f":"'Notation LYCEE Etab'!A6","v":0},{"$f":"'Notation LYCEE Etab'!A7","v":0},{"$f":"'Equipes LYCEE Etab'!D14","v":0},{"$f":"'Notation LYCEE Etab'!AD6","v":{"$error":"#DIV/0!"}},{"$f":"'Notation LYCEE Etab'!AD7","v":{"$error":"#DIV/0!"}},{"$f":"IFERROR('Notation LYCEE Etab'!AE6,0)","v":0}]
["3ème",{"$f":"'Notation LYCEE Etab'!A8","v":0},{"$f":"'Notation LYCEE Etab'!A9","v":0},{"$f":"'Equipes LYCEE Etab'!D15","v":0},{"$f":"'Notation LYCEE Etab'!AD8","v":{"$error":"#DIV/0!"}},{"$f":"'Notation LYCEE Etab'!AD9","v":{"$error":"#DIV/0!"}},{"$f":"IFERROR('Notation LYCEE Etab'!AE8,0)","v":0}]
["4ème",{"$f":"'Notation LYCEE Etab'!A10","v":0},{"$f":"'Notation LYCEE Etab'!A11","v":0},{"$f":"'Equipes LYCEE Etab'!D16","v":0},{"$f":"'Notation LYCEE Etab'!AD10","v":{"$error":"#DIV/0!"}},{"$f":"'Notation LYCEE Etab'!AD11","v":{"$error":"#DIV/0!"}},{"$f":"IFERROR('Notation LYCEE Etab'!AE10,0)","v":0}]
["5ème",{"$f":"'Notation LYCEE Etab'!A12","v":0},{"$f":"'Notation LYCEE Etab'!A13","v":0},{"$f":"'Equipes LYCEE Etab'!D17","v":0},{"$f":"'Notation LYCEE Etab'!AD12","v":{"$error":"#DIV/0!"}},{"$f":"'Notation LYCEE Etab'!AD13","v":{"$error":"#DIV/0!"}},{"$f":"IFERROR('Notation LYCEE Etab'!AE12,0)","v":0}]
["6ème",{"$f":"'Notation LYCEE Etab'!A14","v":0},{"$f":"'Notation LYCEE Etab'!A15","v":0},{"$f":"'Equipes LYCEE Etab'!D18","v":0},{"$f":"'Notation LYCEE Etab'!AD14","v":{"$error":"#DIV/0!"}},{"$f":"'Notation LYCEE Etab'!AD15","v":{"$error":"#DIV/0!"}},{"$f":"IFERROR('Notation LYCEE Etab'!AE14,0)","v":0}]
["7ème",{"$f":"'Notation LYCEE Etab'!A16","v":0},{"$f":"'Notation LYCEE Etab'!A17","v":0},{"$f":"'Equipes LYCEE Etab'!D19","v":0},{"$f":"'Notation LYCEE Etab'!AD16","v":{"$error":"#DIV/0!"}},{"$f":"'Notation LYCEE Etab'!AD17","v":{"$error":"#DIV/0!"}},{"$f":"IFERROR('Notation LYCEE Etab'!AE16,0)","v":0}]
["8ème",{"$f":"'Notation LYCEE Etab'!A18","v":0},{"$f":"'Notation LYCEE Etab'!A19","v":0},{"$f":"'Equipes LYCEE Etab'!D20","v":0},{"$f":"'Notation LYCEE Etab'!AD18","v":{"$error":"#DIV/0!"}},{"$f":"'Notation LYCEE Etab'!AD19","v":{"$error":"#DIV/0!"}},{"$f":"IFERROR('Notation LYCEE Etab'!AE18,0)","v":0}]
["9ème",{"$f":"'Notation LYCEE Etab'!A20","v":0},{"$f":"'Notation LYCEE Etab'!A21","v":0},{"$f":"'Equipes LYCEE Etab'!D21","v":0},{"$f":"'Notation LYCEE Etab'!AD20","v":{"$error":"#DIV/0!"}},{"$f":"'Notation LYCEE Etab'!AD21","v":{"$error":"#DIV/0!"}},{"$f":"IFERROR('Notation LYCEE Etab'!AE20,0)","v":0}]
["10ème",{"$f":"'Notation LYCEE Etab'!A22","v":0},{"$f":"'Notation LYCEE Etab'!A23","v":0},{"$f":"'Equipes LYCEE Etab'!D22","v":0},{"$f":"'Notation LYCEE Etab'!AD22","v":{"$error":"#DIV/0!"}},{"$f":"'Notation LYCEE Etab'!AD23","v":{"$error":"#DIV/0!"}},{"$f":"IFERROR('Notation LYCEE Etab'!AE22,0)","v":0}]
["11ème",{"$f":"'Notation LYCEE Etab'!A24","v":0},{"$f":"'Notation LYCEE Etab'!A25","v":0},{"$f":"'Equipes LYCEE Etab'!D23","v":0},{"$f":"'Notation LYCEE Etab'!AD24","v":{"$error":"#DIV/0!"}},{"$f":"'Notation LYCEE Etab'!AD25","v":{"$error":"#DIV/0!"}},{"$f":"IFERROR('Notation LYCEE Etab'!AE24,0)","v":0}]
["12ème",{"$f":"'Notation LYCEE Etab'!A26","v":0},{"$f":"'Notation LYCEE Etab'!A27","v":0},{"$f":"'Equipes LYCEE Etab'!D24","v":0},{"$f":"'Notation LYCEE Etab'!AD26","v":{"$error":"#DIV/0!"}},{"$f":"'Notation LYCEE Etab'!AD27","v":{"$error":"#DIV/0!"}},{"$f":"IFERROR('Notation LYCEE Etab'!AE26,0)","v":0}]

{"sheet":"Récap total COLL Exc","index":12,"n_rows":16,"n_cols":6,"rows_kept":16,"cut":false,"hidden":false,"merged":[[0,0,1,5],[16,0,17,0],[16,2,17,2],[16,3,17,3],[16,4,17,4],[16,5,17,5],[18,0,19,0],[18,2,19,2],[18,3,19,3],[18,4,19,4],[18,5,19,5],[20,0,21,0],[20,2,21,2],[20,3,21,3],[20,4,21,4],[20,5,21,5]]}
["RECAP TOTAL COLL EXC"]
[]
[]
["Equipe","Ville","1er passage","2ème passage","Total","Vérif"]
[{"$f":"'Notation COLL Exc'!A4","v":0},{"$f":"'Notation COLL Exc'!A5","v":0},{"$f":"'Notation COLL Exc'!AD4","v":{"$error":"#DIV/0!"}},{"$f":"'Notation COLL Exc'!AD5","v":{"$error":"#DIV/0!"}},{"$f":"SUM(C5,D5)","v":{"$error":"#DIV/0!"}},{"$f":"IFERROR('Notation COLL Exc'!AE4,0)","v":0}]
[{"$f":"'Notation COLL Exc'!A6","v":0},{"$f":"'Notation COLL Exc'!A7","v":0},{"$f":"'Notation COLL Exc'!AD6","v":{"$error":"#DIV/0!"}},{"$f":"'Notation COLL Exc'!AD7","v":{"$error":"#DIV/0!"}},{"$f":"SUM(C6,D6)","v":{"$error":"#DIV/0!"}},{"$f":"IFERROR('Notation COLL Exc'!AE6,0)","v":0}]
[{"$f":"'Notation COLL Exc'!A8","v":0},{"$f":"'Notation COLL Exc'!A9","v":0},{"$f":"'Notation COLL Exc'!AD8","v":{"$error":"#DIV/0!"}},{"$f":"'Notation COLL Exc'!AD9","v":{"$error":"#DIV/0!"}},{"$f":"SUM(C7,D7)","v":{"$error":"#DIV/0!"}},{"$f":"IFERROR('Notation COLL Exc'!AE8,0)","v":0}]
[{"$f":"'Notation COLL Exc'!A10","v":0},{"$f":"'Notation COLL Exc'!A11","v":0},{"$f":"'Notation COLL Exc'!AD10","v":{"$error":"#DIV/0!"}},{"$f":"'Notation COLL Exc'!AD11","v":{"$error":"#DIV/0!"}},{"$f":"SUM(C8,D8)","v":{"$error":"#DIV/0!"}},{"$f":"IFERROR('Notation COLL Exc'!AE10,0)","v":0}]
[{"$f":"'Notation COLL Exc'!A12","v":0},{"$f":"'Notation COLL Exc'!A13","v":0},{"$f":"'Notation COLL Exc'!AD12","v":{"$error":"#DIV/0!"}},{"$f":"'Notation COLL Exc'!AD13","v":{"$error":"#DIV/0!"}},{"$f":"SUM(C9,D9)","v":{"$error":"#DIV/0!"}},{"$f":"IFERROR('Notation COLL Exc'!AE12,0)","v":0}]
[{"$f":"'Notation COLL Exc'!A14","v":0},{"$f":"'Notation COLL Exc'!A15","v":0},{"$f":"'Notation COLL Exc'!AD14","v":{"$error":"#DIV/0!"}},{"$f":"'Notation COLL Exc'!AD15","v":{"$error":"#DIV/0!"}},{"$f":"SUM(C10,D10)","v":{"$error":"#DIV/0!"}},{"$f":"IFERROR('Notation COLL Exc'!AE14,0)","v":0}]
[{"$f":"'Notation COLL Exc'!A16","v":0},{"$f":"'Notation COLL Exc'!A17","v":0},{"$f":"'Notation COLL Exc'!AD16","v":{"$error":"#DIV/0!"}},{"$f":"'Notation COLL Exc'!AD17","v":{"$error":"#DIV/0!"}},{"$f":"SUM(C11,D11)","v":{"$error":"#DIV/0!"}},{"$f":"IFERROR('Notation COLL Exc'!AE16,0)","v":0}]
[{"$f":"'Notation COLL Exc'!A18","v":0},{"$f":"'Notation COLL Exc'!A19","v":0},{"$f":"'Notation COLL Exc'!AD18","v":{"$error":"#DIV/0!"}},{"$f":"'Notation COLL Exc'!AD19","v":{"$error":"#DIV/0!"}},{"$f":"SUM(C12,D12)","v":{"$error":"#DIV/0!"}},{"$f":"IFERROR('Notation COLL Exc'!AE18,0)","v":0}]
[{"$f":"'Notation COLL Exc'!A20","v":0},{"$f":"'Notation COLL Exc'!A21","v":0},{"$f":"'Notation COLL Exc'!AD20","v":{"$error":"#DIV/0!"}},{"$f":"'Notation COLL Exc'!AD21","v":{"$error":"#DIV/0!"}},{"$f":"SUM(C13,D13)","v":{"$error":"#DIV/0!"}},{"$f":"IFERROR('Notation COLL Exc'!AE20,0)","v":0}]
[{"$f":"'Notation COLL Exc'!A22","v":0},{"$f":"'Notation COLL Exc'!A23","v":0},{"$f":"'Notation COLL Exc'!AD22","v":{"$error":"#DIV/0!"}},{"$f":"'Notation COLL Exc'!AD23","v":{"$error":"#DIV/0!"}},{"$f":"SUM(C14,D14)","v":{"$error":"#DIV/0!"}},{"$f":"IFERROR('Notation COLL Exc'!AE22,0)","v":0}]
[{"$f":"'Notation COLL Exc'!A24","v":0},{"$f":"'Notation COLL Exc'!A25","v":0},{"$f":"'Notation COLL Exc'!AD24","v":{"$error":"#DIV/0!"}},{"$f":"'Notation COLL Exc'!AD25","v":{"$error":"#DIV/0!"}},{"$f":"SUM(C15,D15)","v":{"$error":"#DIV/0!"}},{"$f":"IFERROR('Notation COLL Exc'!AE24,0)","v":0}]
[{"$f":"'Notation COLL Exc'!A26","v":0},{"$f":"'Notation COLL Exc'!A27","v":0},{"$f":"'Notation COLL Exc'!AD26","v":{"$error":"#DIV/0!"}},{"$f":"'Notation COLL Exc'!AD27","v":{"$error":"#DIV/0!"}},{"$f":"SUM(C16,D16)","v":{"$error":"#DIV/0!"}},{"$f":"IFERROR('Notation COLL Exc'!AE26,0)","v":0}]

{"sheet":"PALMARES COLL EXC","index":13,"n_rows":16,"n_cols":7,"rows_kept":16,"cut":false,"hidden":false,"merged":[[16,1,17,1],[16,4,17,4],[16,5,17,5],[16,6,17,6],[0,0,1,6],[18,1,19,1],[18,4,19,4],[18,5,19,5],[18,6,19,6],[20,1,21,1],[20,4,21,4],[20,5,21,5],[20,6,21,6]]}
["PALMARES COLLEGE EXCELLENCE"]
[]
[]
["Classement","Equipe","Etablissement","Ville","1er passage","2ème passage","Total"]
["1er",{"$f":"'Notation COLL Exc'!A4","v":0},{"$f":"'Notation COLL Exc'!A5","v":0},{"$f":"'Equipes COLL Exc'!D13","v":0},{"$f":"'Notation COLL Exc'!AD4","v":{"$error":"#DIV/0!"}},{"$f":"'Notation COLL Exc'!AD5","v":{"$error":"#DIV/0!"}},{"$f":"IFERROR('Notation COLL Exc'!AE4,0)","v":0}]
["2ème",{"$f":"'Notation COLL Exc'!A6","v":0},{"$f":"'Notation COLL Exc'!A7","v":0},{"$f":"'Equipes COLL Exc'!D14","v":0},{"$f":"'Notation COLL Exc'!AD6","v":{"$error":"#DIV/0!"}},{"$f":"'Notation COLL Exc'!AD7","v":{"$error":"#DIV/0!"}},{"$f":"IFERROR('Notation COLL Exc'!AE6,0)","v":0}]
["3ème",{"$f":"'Notation COLL Exc'!A8","v":0},{"$f":"'Notation COLL Exc'!A9","v":0},{"$f":"'Equipes COLL Exc'!D15","v":0},{"$f":"'Notation COLL Exc'!AD8","v":{"$error":"#DIV/0!"}},{"$f":"'Notation COLL Exc'!AD9","v":{"$error":"#DIV/0!"}},{"$f":"IFERROR('Notation COLL Exc'!AE8,0)","v":0}]
["4ème",{"$f":"'Notation COLL Exc'!A10","v":0},{"$f":"'Notation COLL Exc'!A11","v":0},{"$f":"'Equipes COLL Exc'!D16","v":0},{"$f":"'Notation COLL Exc'!AD10","v":{"$error":"#DIV/0!"}},{"$f":"'Notation COLL Exc'!AD11","v":{"$error":"#DIV/0!"}},{"$f":"IFERROR('Notation COLL Exc'!AE10,0)","v":0}]
["5ème",{"$f":"'Notation COLL Exc'!A12","v":0},{"$f":"'Notation COLL Exc'!A13","v":0},{"$f":"'Equipes COLL Exc'!D17","v":0},{"$f":"'Notation COLL Exc'!AD12","v":{"$error":"#DIV/0!"}},{"$f":"'Notation COLL Exc'!AD13","v":{"$error":"#DIV/0!"}},{"$f":"IFERROR('Notation COLL Exc'!AE12,0)","v":0}]
["6ème",{"$f":"'Notation COLL Exc'!A14","v":0},{"$f":"'Notation COLL Exc'!A15","v":0},{"$f":"'Equipes COLL Exc'!D18","v":0},{"$f":"'Notation COLL Exc'!AD14","v":{"$error":"#DIV/0!"}},{"$f":"'Notation COLL Exc'!AD15","v":{"$error":"#DIV/0!"}},{"$f":"IFERROR('Notation COLL Exc'!AE14,0)","v":0}]
["7ème",{"$f":"'Notation COLL Exc'!A16","v":0},{"$f":"'Notation COLL Exc'!A17","v":0},{"$f":"'Equipes COLL Exc'!D19","v":0},{"$f":"'Notation COLL Exc'!AD16","v":{"$error":"#DIV/0!"}},{"$f":"'Notation COLL Exc'!AD17","v":{"$error":"#DIV/0!"}},{"$f":"IFERROR('Notation COLL Exc'!AE16,0)","v":0}]
["8ème",{"$f":"'Notation COLL Exc'!A18","v":0},{"$f":"'Notation COLL Exc'!A19","v":0},{"$f":"'Equipes COLL Exc'!D20","v":0},{"$f":"'Notation COLL Exc'!AD18","v":{"$error":"#DIV/0!"}},{"$f":"'Notation COLL Exc'!AD19","v":{"$error":"#DIV/0!"}},{"$f":"IFERROR('Notation COLL Exc'!AE18,0)","v":0}]
["9ème",{"$f":"'Notation COLL Exc'!A20","v":0},{"$f":"'Notation COLL Exc'!A21","v":0},{"$f":"'Equipes COLL Exc'!D21","v":0},{"$f":"'Notation COLL Exc'!AD20","v":{"$error":"#DIV/0!"}},{"$f":"'Notation COLL Exc'!AD21","v":{"$error":"#DIV/0!"}},{"$f":"IFERROR('Notation COLL Exc'!AE20,0)","v":0}]
["10ème",{"$f":"'Notation COLL Exc'!A22","v":0},{"$f":"'Notation COLL Exc'!A23","v":0},{"$f":"'Equipes COLL Exc'!D22","v":0},{"$f":"'Notation COLL Exc'!AD22","v":{"$error":"#DIV/0!"}},{"$f":"'Notation COLL Exc'!AD23","v":{"$error":"#DIV/0!"}},{"$f":"IFERROR('Notation COLL Exc'!AE22,0)","v":0}]
["11ème",{"$f":"'Notation COLL Exc'!A24","v":0},{"$f":"'Notation COLL Exc'!A25","v":0},{"$f":"'Equipes COLL Exc'!D23","v":0},{"$f":"'Notation COLL Exc'!AD24","v":{"$error":"#DIV/0!"}},{"$f":"'Notation COLL Exc'!AD25","v":{"$error":"#DIV/0!"}},{"$f":"IFERROR('Notation COLL Exc'!AE24,0)","v":0}]
["12ème",{"$f":"'Notation COLL Exc'!A26","v":0},{"$f":"'Notation COLL Exc'!A27","v":0},{"$f":"'Equipes COLL Exc'!D24","v":0},{"$f":"'Notation COLL Exc'!AD26","v":{"$error":"#DIV/0!"}},{"$f":"'Notation COLL Exc'!AD27","v":{"$error":"#DIV/0!"}},{"$f":"IFERROR('Notation COLL Exc'!AE26,0)","v":0}]

{"sheet":"Récap total LYCEE Exc","index":14,"n_rows":16,"n_cols":6,"rows_kept":16,"cut":false,"hidden":false,"merged":[[0,0,1,5],[16,0,17,0],[16,2,17,2],[16,3,17,3],[16,4,17,4],[16,5,17,5],[18,0,19,0],[18,2,19,2],[18,3,19,3],[18,4,19,4],[18,5,19,5],[20,0,21,0],[20,2,21,2],[20,3,21,3],[20,4,21,4],[20,5,21,5]]}
["RECAP TOTAL LYCEE EXC"]
[]
[]
["Equipe","Etablissement","1er passage","2ème passage","Total","Vérif"]
[{"$f":"'Notation LYCEE Exc'!A4","v":0},{"$f":"'Notation LYCEE Exc'!A5","v":0},{"$f":"'Notation LYCEE Exc'!AD4","v":{"$error":"#DIV/0!"}},{"$f":"'Notation LYCEE Exc'!AD5","v":{"$error":"#DIV/0!"}},{"$f":"SUM(C5,D5)","v":{"$error":"#DIV/0!"}},{"$f":"IFERROR('Notation LYCEE Exc'!AE4,0)","v":0}]
[{"$f":"'Notation LYCEE Exc'!A6","v":0},{"$f":"'Notation LYCEE Exc'!A7","v":0},{"$f":"'Notation LYCEE Exc'!AD6","v":{"$error":"#DIV/0!"}},{"$f":"'Notation LYCEE Exc'!AD7","v":{"$error":"#DIV/0!"}},{"$f":"SUM(C6,D6)","v":{"$error":"#DIV/0!"}},{"$f":"IFERROR('Notation LYCEE Exc'!AE6,0)","v":0}]
[{"$f":"'Notation LYCEE Exc'!A8","v":0},{"$f":"'Notation LYCEE Exc'!A9","v":0},{"$f":"'Notation LYCEE Exc'!AD8","v":{"$error":"#DIV/0!"}},{"$f":"'Notation LYCEE Exc'!AD9","v":{"$error":"#DIV/0!"}},{"$f":"SUM(C7,D7)","v":{"$error":"#DIV/0!"}},{"$f":"IFERROR('Notation LYCEE Exc'!AE8,0)","v":0}]
[{"$f":"'Notation LYCEE Exc'!A10","v":0},{"$f":"'Notation LYCEE Exc'!A11","v":0},{"$f":"'Notation LYCEE Exc'!AD10","v":{"$error":"#DIV/0!"}},{"$f":"'Notation LYCEE Exc'!AD11","v":{"$error":"#DIV/0!"}},{"$f":"SUM(C8,D8)","v":{"$error":"#DIV/0!"}},{"$f":"IFERROR('Notation LYCEE Exc'!AE10,0)","v":0}]
[{"$f":"'Notation LYCEE Exc'!A12","v":0},{"$f":"'Notation LYCEE Exc'!A13","v":0},{"$f":"'Notation LYCEE Exc'!AD12","v":{"$error":"#DIV/0!"}},{"$f":"'Notation LYCEE Exc'!AD13","v":{"$error":"#DIV/0!"}},{"$f":"SUM(C9,D9)","v":{"$error":"#DIV/0!"}},{"$f":"IFERROR('Notation LYCEE Exc'!AE12,0)","v":0}]
[{"$f":"'Notation LYCEE Exc'!A14","v":0},{"$f":"'Notation LYCEE Exc'!A15","v":0},{"$f":"'Notation LYCEE Exc'!AD14","v":{"$error":"#DIV/0!"}},{"$f":"'Notation LYCEE Exc'!AD15","v":{"$error":"#DIV/0!"}},{"$f":"SUM(C10,D10)","v":{"$error":"#DIV/0!"}},{"$f":"IFERROR('Notation LYCEE Exc'!AE14,0)","v":0}]
[{"$f":"'Notation LYCEE Exc'!A16","v":0},{"$f":"'Notation LYCEE Exc'!A17","v":0},{"$f":"'Notation LYCEE Exc'!AD16","v":{"$error":"#DIV/0!"}},{"$f":"'Notation LYCEE Exc'!AD17","v":{"$error":"#DIV/0!"}},{"$f":"SUM(C11,D11)","v":{"$error":"#DIV/0!"}},{"$f":"IFERROR('Notation LYCEE Exc'!AE16,0)","v":0}]
[{"$f":"'Notation LYCEE Exc'!A18","v":0},{"$f":"'Notation LYCEE Exc'!A19","v":0},{"$f":"'Notation LYCEE Exc'!AD18","v":{"$error":"#DIV/0!"}},{"$f":"'Notation LYCEE Exc'!AD19","v":{"$error":"#DIV/0!"}},{"$f":"SUM(C12,D12)","v":{"$error":"#DIV/0!"}},{"$f":"IFERROR('Notation LYCEE Exc'!AE18,0)","v":0}]
[{"$f":"'Notation LYCEE Exc'!A20","v":0},{"$f":"'Notation LYCEE Exc'!A21","v":0},{"$f":"'Notation LYCEE Exc'!AD20","v":{"$error":"#DIV/0!"}},{"$f":"'Notation LYCEE Exc'!AD21","v":{"$error":"#DIV/0!"}},{"$f":"SUM(C13,D13)","v":{"$error":"#DIV/0!"}},{"$f":"IFERROR('Notation LYCEE Exc'!AE20,0)","v":0}]
[{"$f":"'Notation LYCEE Exc'!A22","v":0},{"$f":"'Notation LYCEE Exc'!A23","v":0},{"$f":"'Notation LYCEE Exc'!AD22","v":{"$error":"#DIV/0!"}},{"$f":"'Notation LYCEE Exc'!AD23","v":{"$error":"#DIV/0!"}},{"$f":"SUM(C14,D14)","v":{"$error":"#DIV/0!"}},{"$f":"IFERROR('Notation LYCEE Exc'!AE22,0)","v":0}]
[{"$f":"'Notation LYCEE Exc'!A24","v":0},{"$f":"'Notation LYCEE Exc'!A25","v":0},{"$f":"'Notation LYCEE Exc'!AD24","v":{"$error":"#DIV/0!"}},{"$f":"'Notation LYCEE Exc'!AD25","v":{"$error":"#DIV/0!"}},{"$f":"SUM(C15,D15)","v":{"$error":"#DIV/0!"}},{"$f":"IFERROR('Notation LYCEE Exc'!AE24,0)","v":0}]
[{"$f":"'Notation LYCEE Exc'!A26","v":0},{"$f":"'Notation LYCEE Exc'!A27","v":0},{"$f":"'Notation LYCEE Exc'!AD26","v":{"$error":"#DIV/0!"}},{"$f":"'Notation LYCEE Exc'!AD27","v":{"$error":"#DIV/0!"}},{"$f":"SUM(C16,D16)","v":{"$error":"#DIV/0!"}},{"$f":"IFERROR('Notation LYCEE Exc'!AE26,0)","v":0}]

{"sheet":"PALMARES LYCEE EXC","index":15,"n_rows":16,"n_cols":7,"rows_kept":16,"cut":false,"hidden":false,"merged":[[16,1,17,1],[16,4,17,4],[16,5,17,5],[16,6,17,6],[0,0,1,6],[18,1,19,1],[18,4,19,4],[18,5,19,5],[18,6,19,6],[20,1,21,1],[20,4,21,4],[20,5,21,5],[20,6,21,6]]}
["PALMARES LYCEE EXCELLENCE"]
[]
[]
["Classement","Equipe","Etablissement","Ville","1er passage","2ème passage","Total"]
["1er",{"$f":"'Notation LYCEE Exc'!A4","v":0},{"$f":"'Notation LYCEE Exc'!A5","v":0},{"$f":"'Equipes LYCEE Exc'!D13","v":0},{"$f":"'Notation LYCEE Exc'!AD4","v":{"$error":"#DIV/0!"}},{"$f":"'Notation LYCEE Exc'!AD5","v":{"$error":"#DIV/0!"}},{"$f":"IFERROR('Notation LYCEE Exc'!AE4,0)","v":0}]
["2ème",{"$f":"'Notation LYCEE Exc'!A6","v":0},{"$f":"'Notation LYCEE Exc'!A7","v":0},{"$f":"'Equipes LYCEE Exc'!D14","v":0},{"$f":"'Notation LYCEE Exc'!AD6","v":{"$error":"#DIV/0!"}},{"$f":"'Notation LYCEE Exc'!AD7","v":{"$error":"#DIV/0!"}},{"$f":"IFERROR('Notation LYCEE Exc'!AE6,0)","v":0}]
["3ème",{"$f":"'Notation LYCEE Exc'!A8","v":0},{"$f":"'Notation LYCEE Exc'!A9","v":0},{"$f":"'Equipes LYCEE Exc'!D15","v":0},{"$f":"'Notation LYCEE Exc'!AD8","v":{"$error":"#DIV/0!"}},{"$f":"'Notation LYCEE Exc'!AD9","v":{"$error":"#DIV/0!"}},{"$f":"IFERROR('Notation LYCEE Exc'!AE8,0)","v":0}]
["4ème",{"$f":"'Notation LYCEE Exc'!A10","v":0},{"$f":"'Notation LYCEE Exc'!A11","v":0},{"$f":"'Equipes LYCEE Exc'!D16","v":0},{"$f":"'Notation LYCEE Exc'!AD10","v":{"$error":"#DIV/0!"}},{"$f":"'Notation LYCEE Exc'!AD11","v":{"$error":"#DIV/0!"}},{"$f":"IFERROR('Notation LYCEE Exc'!AE10,0)","v":0}]
["5ème",{"$f":"'Notation LYCEE Exc'!A12","v":0},{"$f":"'Notation LYCEE Exc'!A13","v":0},{"$f":"'Equipes LYCEE Exc'!D17","v":0},{"$f":"'Notation LYCEE Exc'!AD12","v":{"$error":"#DIV/0!"}},{"$f":"'Notation LYCEE Exc'!AD13","v":{"$error":"#DIV/0!"}},{"$f":"IFERROR('Notation LYCEE Exc'!AE12,0)","v":0}]
["6ème",{"$f":"'Notation LYCEE Exc'!A14","v":0},{"$f":"'Notation LYCEE Exc'!A15","v":0},{"$f":"'Equipes LYCEE Exc'!D18","v":0},{"$f":"'Notation LYCEE Exc'!AD14","v":{"$error":"#DIV/0!"}},{"$f":"'Notation LYCEE Exc'!AD15","v":{"$error":"#DIV/0!"}},{"$f":"IFERROR('Notation LYCEE Exc'!AE14,0)","v":0}]
["7ème",{"$f":"'Notation LYCEE Exc'!A16","v":0},{"$f":"'Notation LYCEE Exc'!A17","v":0},{"$f":"'Equipes LYCEE Exc'!D19","v":0},{"$f":"'Notation LYCEE Exc'!AD16","v":{"$error":"#DIV/0!"}},{"$f":"'Notation LYCEE Exc'!AD17","v":{"$error":"#DIV/0!"}},{"$f":"IFERROR('Notation LYCEE Exc'!AE16,0)","v":0}]
["8ème",{"$f":"'Notation LYCEE Exc'!A18","v":0},{"$f":"'Notation LYCEE Exc'!A19","v":0},{"$f":"'Equipes LYCEE Exc'!D20","v":0},{"$f":"'Notation LYCEE Exc'!AD18","v":{"$error":"#DIV/0!"}},{"$f":"'Notation LYCEE Exc'!AD19","v":{"$error":"#DIV/0!"}},{"$f":"IFERROR('Notation LYCEE Exc'!AE18,0)","v":0}]
["9ème",{"$f":"'Notation LYCEE Exc'!A20","v":0},{"$f":"'Notation LYCEE Exc'!A21","v":0},{"$f":"'Equipes LYCEE Exc'!D21","v":0},{"$f":"'Notation LYCEE Exc'!AD20","v":{"$error":"#DIV/0!"}},{"$f":"'Notation LYCEE Exc'!AD21","v":{"$error":"#DIV/0!"}},{"$f":"IFERROR('Notation LYCEE Exc'!AE20,0)","v":0}]
["10ème",{"$f":"'Notation LYCEE Exc'!A22","v":0},{"$f":"'Notation LYCEE Exc'!A23","v":0},{"$f":"'Equipes LYCEE Exc'!D22","v":0},{"$f":"'Notation LYCEE Exc'!AD22","v":{"$error":"#DIV/0!"}},{"$f":"'Notation LYCEE Exc'!AD23","v":{"$error":"#DIV/0!"}},{"$f":"IFERROR('Notation LYCEE Exc'!AE22,0)","v":0}]
["11ème",{"$f":"'Notation LYCEE Exc'!A24","v":0},{"$f":"'Notation LYCEE Exc'!A25","v":0},{"$f":"'Equipes LYCEE Exc'!D23","v":0},{"$f":"'Notation LYCEE Exc'!AD24","v":{"$error":"#DIV/0!"}},{"$f":"'Notation LYCEE Exc'!AD25","v":{"$error":"#DIV/0!"}},{"$f":"IFERROR('Notation LYCEE Exc'!AE24,0)","v":0}]
["12ème",{"$f":"'Notation LYCEE Exc'!A26","v":0},{"$f":"'Notation LYCEE Exc'!A27","v":0},{"$f":"'Equipes LYCEE Exc'!D24","v":0},{"$f":"'Notation LYCEE Exc'!AD26","v":{"$error":"#DIV/0!"}},{"$f":"'Notation LYCEE Exc'!AD27","v":{"$error":"#DIV/0!"}},{"$f":"IFERROR('Notation LYCEE Exc'!AE26,0)","v":0}]

{"sheet":"Feuil13","index":16,"n_rows":0,"n_cols":0,"rows_kept":0,"cut":false,"hidden":false,"merged":[]}